{"text_format":"1","workbook":"xlsx","n_sheets":13,"sheets":["Feuil1","coche","3000","3100","3200","3300","3400","3500","3600","3700","3800","3900","4000"],"not_rendered":{"charts":0,"images":4,"macros":1,"external_links":1,"defined_names":0,"comments":0,"pivot_tables":0},"unopened":[],"bounds":{"document_bytes":16777216,"sheet_cells":100000,"rows_first":2000,"rows_last":500,"rows_between":2000,"halvings":0,"cell_chars":16384,"cell_head_chars":4096},"cells_cut":0,"cells_raw":0,"read":"whole","date_system":"1900"}

{"sheet":"Feuil1","index":0,"n_rows":62,"n_cols":11,"rows_kept":62,"cut":false,"hidden":false,"merged":[[29,1,29,9],[6,0,7,10],[19,2,19,3],[21,1,21,9],[22,1,22,9],[23,1,23,9],[24,1,24,9],[25,1,25,9],[26,1,26,9],[27,1,27,9],[28,1,28,9],[19,7,19,8],[42,1,42,4],[56,1,56,3],[55,1,55,3],[54,1,54,3],[30,1,30,9],[31,1,31,9],[32,1,32,9],[33,1,33,9],[34,1,34,9],[35,1,35,9],[36,1,36,9],[40,1,40,9],[41,1,41,9],[37,1,37,9],[38,1,38,9],[39,1,39,9],[60,1,60,9],[52,1,52,3],[51,1,51,3],[50,1,50,3],[48,1,48,3],[54,6,54,8],[57,1,57,3],[59,1,59,3],[45,10,46,10],[45,1,45,3],[44,1,44,9],[45,7,45,9],[53,1,53,3],[47,1,47,3],[49,1,49,3]]}
[null,null,null,null,null,null,null,"Trimat Kit"]
[null,null,null,null,null,null,null,"ZA de la Fosserie"]
[null,null,null,null,null,null,null,"14600 Honfleur"]
[]
[null,null,null,null,null,null,null,"Tel: 02 31 98 84 54"]
[null,null,null,null,null,null,null,"Mail: fbotton@trimat.fr"]
["Caisse isobox Mercedes Sprinter"]
[]
[]
[]
[]
[]
[]
[]
[]
[]
[]
[]
[]
[null,"Chassis",{"$f":"VLOOKUP(coche!H2,coche!G3:L7,2)","v":0},null,null,null,"Longueur (L)",{"$f":"VLOOKUP(coche!H11,coche!G12:H31,2)","v":0}]
[]
["Référence","Désignation",null,null,null,null,null,null,null,null,"Qte"]
[null,"Caisse"]
[{"$f":"coche!W5","v":{"$error":"#N/A"}},{"$f":"coche!X5","v":""},null,null,null,null,null,null,null,null,{"$f":"coche!Y5","v":""}]
[]
[null,"Accessoire de serie caisse"]
[{"$f":"coche!W7","v":""},{"$f":"coche!X7","v":""},null,null,null,null,null,null,null,null,{"$f":"coche!Y7","v":""}]
[{"$f":"coche!W8","v":""},{"$f":"coche!X8","v":""},null,null,null,null,null,null,null,null,{"$f":"coche!Y8","v":""}]
[{"$f":"coche!W9","v":""},{"$f":"coche!X9","v":""},null,null,null,null,null,null,null,null,{"$f":"coche!Y9","v":""}]
[{"$f":"coche!W10","v":""},{"$f":"coche!X10","v":""},null,null,null,null,null,null,null,null,{"$f":"coche!Y10","v":""}]
[{"$f":"coche!W11","v":""},{"$f":"coche!X11","v":""},null,null,null,null,null,null,null,null,{"$f":"coche!Y11","v":""}]
[{"$f":"coche!W12","v":""},{"$f":"coche!X12","v":""},null,null,null,null,null,null,null,null,{"$f":"coche!Y12","v":""}]
[{"$f":"coche!W13","v":""},{"$f":"coche!X13","v":""},null,null,null,null,null,null,null,null,{"$f":"coche!Y13","v":""}]
[{"$f":"coche!W14","v":""},{"$f":"coche!X14","v":""},null,null,null,null,null,null,null,null,{"$f":"coche!Y14","v":""}]
[{"$f":"coche!W15","v":""},{"$f":"coche!X15","v":""},null,null,null,null,null,null,null,null,{"$f":"coche!Y15","v":""}]
[{"$f":"coche!W16","v":""},{"$f":"coche!X16","v":""},null,null,null,null,null,null,null,null,{"$f":"coche!Y16","v":""}]
[{"$f":"coche!W17","v":""},{"$f":"coche!X17","v":""},null,null,null,null,null,null,null,null,{"$f":"coche!Y17","v":""}]
[{"$f":"coche!W18","v":""},{"$f":"coche!X18","v":""},null,null,null,null,null,null,null,null,{"$f":"coche!Y18","v":""}]
[{"$f":"coche!W19","v":""},{"$f":"coche!X19","v":""},null,null,null,null,null,null,null,null,{"$f":"coche!Y19","v":""}]
[{"$f":"coche!W20","v":""},{"$f":"coche!X20","v":""},null,null,null,null,null,null,null,null,{"$f":"coche!Y20","v":""}]
[{"$f":"coche!W21","v":""},{"$f":"coche!X21","v":""},null,null,null,null,null,null,null,null,{"$f":"coche!Y21","v":""}]
[{"$f":"coche!W22","v":""},{"$f":"coche!X22","v":""},null,null,null,null,null,null,null,null,{"$f":"coche!Y22","v":""}]
[{"$f":"IF(coche!F16=coche!D16,coche!A16,IF(coche!F16=coche!D17,coche!A17,\"\"))","v":""},{"$f":"IF(coche!Y26=0,\"\",coche!X26)","v":""},null,null,null,null,"Simples",null,"Jumelées",null,{"$f":"coche!Y26","v":""}]
[]
[null,"Accessoire en option caisse"]
["IBA0014","Porte latérale",null,null,null,null,"Distance D en mm:",{"$f":"IF(coche!C2=TRUE,\"200\",\"\")","v":""},null,null,{"$f":"IF(H46=\"\",\"\",IF(H46<199.99,\"impossible distance mini 200 mm\",coche!Y29))","v":""}]
[]
[{"$f":"coche!A3","v":"IBA0046"},"Rail arrimage",null,null,null,null,"Longeur:",{"$f":"coche!Y30","v":""},"ht en mm depuis plancher:",null,{"$f":"IF(coche!C3=TRUE,1,\"\")","v":""}]
[{"$f":"coche!A4","v":"IBA0047"},"Rideau à lame latérale",null,null,null,null,null,null,null,null,{"$f":"IF(coche!C4=TRUE,1,\"\")","v":""}]
[{"$f":"coche!A5","v":"IBA0048"},"Rideau à lame arrière",null,null,null,null,null,null,null,null,{"$f":"IF(coche!C5=TRUE,1,\"\")","v":""}]
[{"$f":"coche!A6","v":"IBA0049"},"Etagère P500 1er niveau D",null,null,null,null,"Longeur:",{"$f":"coche!Y32","v":""},"ht en mm depuis plancher:",null,{"$f":"IF(coche!C6=TRUE,1,\"\")","v":""}]
[{"$f":"coche!A7","v":"IBA0050"},"Etagère P500 2eme niveau D",null,null,null,null,"Longeur:",{"$f":"coche!Y33","v":""},"ht en mm depuis plancher:",null,{"$f":"IF(coche!C7=TRUE,1,\"\")","v":""}]
[{"$f":"coche!A8","v":"IBA0051"},"Etagère P500 1er niveau G",null,null,null,null,"Longeur:",{"$f":"coche!Y34","v":""},"ht en mm depuis plancher:",null,{"$f":"IF(coche!C8=TRUE,1,\"\")","v":""}]
[{"$f":"coche!A9","v":"IBA0052"},"Etagère P500 2eme niveau G",null,null,null,null,"Longeur:",{"$f":"coche!Y35","v":""},"ht en mm depuis plancher:",null,{"$f":"IF(coche!C9=TRUE,1,\"\")","v":""}]
[{"$f":"coche!A10","v":"IBA0053"},"Cloison int Fixe + LED",null,null,null,null,"Distance à la face avant en mm:",null,null,null,{"$f":"IF(coche!C10=TRUE,coche!Y36,\"\")","v":""}]
[{"$f":"coche!A11","v":"IBA0054"},"Cloison int mobile + LED",null,null,null,null,null,null,null,null,{"$f":"IF(coche!C11=TRUE,coche!Y37,\"\")","v":""}]
[{"$f":"IF(coche!C12=TRUE,coche!A12,IF(coche!C18=TRUE,coche!A18,\"\"))","v":""},"Hayon (DHLM08 platforme 2040x1600 poids 240 kg)",null,null,null,"Prédisp. Hayon",null,null,{"$f":"IF(VLOOKUP(H20,coche!R4:U14,3,)=0,\"\",VLOOKUP(H20,coche!R4:U14,4,))","v":{"$error":"#N/A"}},null,{"$f":"IF(coche!C12=TRUE,IF(I57=\"Hayon impossible\",\"\",coche!Y38),IF(coche!C18=TRUE,IF(Feuil1!I57=\"Hayon impossible\",\"\",coche!Y39)))","v":false}]
[{"$f":"coche!A13","v":"IBA0057"},"Escabeau escamotable",null,null,null,null,null,null,null,null,{"$f":"IF(coche!C13=TRUE,1,\"\")","v":""}]
[{"$f":"coche!A14","v":"IBA0061"},"Déflecteur",null,null,null,null,null,null,null,null,{"$f":"IF(coche!C14=TRUE,1,\"\")","v":""}]
[{"$f":"coche!A15","v":"IBA0065"},"Retenue de porte magnétique",null,null,null,null,null,null,null,null,{"$f":"IF(coche!C15=TRUE,1,\"\")","v":""}]
[null,"Les cases en jaune et orange doivent impérativement être renseignées si l'option est cochée"]
[null,"Toutes dimensions d'options non renseignées ne pourra être montée en usine ou entrainerra des retards de fabrication."]

{"sheet":"coche","index":1,"n_rows":39,"n_cols":25,"rows_kept":39,"cut":false,"hidden":true,"merged":[]}
[null,"option",null,null,null,null,null,"chassis"]
["IBA0071","Porte latérale",false,null,null,null,null,1,null,null,null,null,null,null,null,null,null,null,null,null,null,null,{"$f":"Feuil1!H20","v":0}]
["IBA0046","Rail arrimage",false,null,null,null,1]
["IBA0047","Rideau Lat",false,null,null,null,2,"L2",3100,3200,3300,3400,3500,null,null,null,null,3000,"IBB0300","IBB0301","Hayon impossible",null,"Ref","designation","qte"]
["IBA0048","Rideau AR",false,null,null,null,3,"L3",3900,4000,null,null,null,null,null,null,null,3100,"IBB0310","IBB0311",null,null,{"$f":"IF(C2=FALSE,VLOOKUP(W2,R4:S14,2),VLOOKUP(W2,R4:T14,3))","v":{"$error":"#N/A"}},{"$f":"IF($W$2=$R$4,'3000'!B4,IF(coche!$W$2=coche!$R$5,'3100'!B4,IF(coche!$W$2=coche!$R$6,'3200'!B4,IF(coche!$W$2=coche!$R$7,'3300'!B4,IF(coche!$W$2=coche!$R$8,'3400'!B4,IF(coche!$W$2=coche!$R$9,'3500'!B4,IF(coche!$W$2=coche!$R$10,'3600'!B4,IF(coche!$W$2=coche!$R$11,'3700'!B4,IF(coche!$W$2=coche!$R$12,'3800'!B4,IF(coche!$W$2=coche!$R$13,'3900'!B4,IF(coche!$W$2=coche!$R$14,'4000'!B4,\"\")))))))))))","v":""},{"$f":"IF($W$2=$R$4,'3000'!E4,IF(coche!$W$2=coche!$R$5,'3100'!E4,IF(coche!$W$2=coche!$R$6,'3200'!E4,IF(coche!$W$2=coche!$R$7,'3300'!E4,IF(coche!$W$2=coche!$R$8,'3400'!E4,IF(coche!$W$2=coche!$R$9,'3500'!E4,IF(coche!$W$2=coche!$R$10,'3600'!E4,IF(coche!$W$2=coche!$R$11,'3700'!E4,IF(coche!$W$2=coche!$R$12,'3800'!E4,IF(coche!$W$2=coche!$R$13,'3900'!E4,IF(coche!$W$2=coche!$R$14,'4000'!E4,\"\")))))))))))","v":""}]
["IBA0049","Etagère P500 1er niveau D",false,null,null,null,4,"L4",null,null,null,null,null,null,null,null,null,3200,"IBB0320","IBB0321",null,null,null,{"$f":"IF($W$2=$R$4,'3000'!B5,IF(coche!$W$2=coche!$R$5,'3100'!B5,IF(coche!$W$2=coche!$R$6,'3200'!B5,IF(coche!$W$2=coche!$R$7,'3300'!B5,IF(coche!$W$2=coche!$R$8,'3400'!B5,IF(coche!$W$2=coche!$R$9,'3500'!B5,IF(coche!$W$2=coche!$R$10,'3600'!B5,IF(coche!$W$2=coche!$R$11,'3700'!B5,IF(coche!$W$2=coche!$R$12,'3800'!B5,IF(coche!$W$2=coche!$R$13,'3900'!B5,IF(coche!$W$2=coche!$R$14,'4000'!B5,\"\")))))))))))","v":""},{"$f":"IF($W$2=$R$4,'3000'!E5,IF(coche!$W$2=coche!$R$5,'3100'!E5,IF(coche!$W$2=coche!$R$6,'3200'!E5,IF(coche!$W$2=coche!$R$7,'3300'!E5,IF(coche!$W$2=coche!$R$8,'3400'!E5,IF(coche!$W$2=coche!$R$9,'3500'!E5,IF(coche!$W$2=coche!$R$10,'3600'!E5,IF(coche!$W$2=coche!$R$11,'3700'!E5,IF(coche!$W$2=coche!$R$12,'3800'!E5,IF(coche!$W$2=coche!$R$13,'3900'!E5,IF(coche!$W$2=coche!$R$14,'4000'!E5,\"\")))))))))))","v":""}]
["IBA0050","Etagère P500 2eme niveau D",false,null,null,null,5,null,null,null,null,null,null,null,null,null,null,3300,"IBB0330","IBB0331",null,null,{"$f":"IF($W$2=$R$4,'3000'!A6,IF(coche!$W$2=coche!$R$5,'3100'!A6,IF(coche!$W$2=coche!$R$6,'3200'!A6,IF(coche!$W$2=coche!$R$7,'3300'!A6,IF(coche!$W$2=coche!$R$8,'3400'!A6,IF(coche!$W$2=coche!$R$9,'3500'!A6,IF(coche!$W$2=coche!$R$10,'3600'!A6,IF(coche!$W$2=coche!$R$11,'3700'!A6,IF(coche!$W$2=coche!$R$12,'3800'!A6,IF(coche!$W$2=coche!$R$13,'3900'!A6,IF(coche!$W$2=coche!$R$14,'4000'!A6,\"\")))))))))))","v":""},{"$f":"IF($W$2=$R$4,'3000'!B6,IF(coche!$W$2=coche!$R$5,'3100'!B6,IF(coche!$W$2=coche!$R$6,'3200'!B6,IF(coche!$W$2=coche!$R$7,'3300'!B6,IF(coche!$W$2=coche!$R$8,'3400'!B6,IF(coche!$W$2=coche!$R$9,'3500'!B6,IF(coche!$W$2=coche!$R$10,'3600'!B6,IF(coche!$W$2=coche!$R$11,'3700'!B6,IF(coche!$W$2=coche!$R$12,'3800'!B6,IF(coche!$W$2=coche!$R$13,'3900'!B6,IF(coche!$W$2=coche!$R$14,'4000'!B6,\"\")))))))))))","v":""},{"$f":"IF($W$2=$R$4,'3000'!E6,IF(coche!$W$2=coche!$R$5,'3100'!E6,IF(coche!$W$2=coche!$R$6,'3200'!E6,IF(coche!$W$2=coche!$R$7,'3300'!E6,IF(coche!$W$2=coche!$R$8,'3400'!E6,IF(coche!$W$2=coche!$R$9,'3500'!E6,IF(coche!$W$2=coche!$R$10,'3600'!E6,IF(coche!$W$2=coche!$R$11,'3700'!E6,IF(coche!$W$2=coche!$R$12,'3800'!E6,IF(coche!$W$2=coche!$R$13,'3900'!E6,IF(coche!$W$2=coche!$R$14,'4000'!E6,\"\")))))))))))","v":""}]
["IBA0051","Etagère P500 1er niveau G",false,null,null,null,null,null,null,null,null,null,null,null,null,null,null,3400,"IBB0340","IBB0341",null,null,{"$f":"IF($W$2=$R$4,'3000'!A7,IF(coche!$W$2=coche!$R$5,'3100'!A7,IF(coche!$W$2=coche!$R$6,'3200'!A7,IF(coche!$W$2=coche!$R$7,'3300'!A7,IF(coche!$W$2=coche!$R$8,'3400'!A7,IF(coche!$W$2=coche!$R$9,'3500'!A7,IF(coche!$W$2=coche!$R$10,'3600'!A7,IF(coche!$W$2=coche!$R$11,'3700'!A7,IF(coche!$W$2=coche!$R$12,'3800'!A7,IF(coche!$W$2=coche!$R$13,'3900'!A7,IF(coche!$W$2=coche!$R$14,'4000'!A7,\"\")))))))))))","v":""},{"$f":"IF($W$2=$R$4,'3000'!B7,IF(coche!$W$2=coche!$R$5,'3100'!B7,IF(coche!$W$2=coche!$R$6,'3200'!B7,IF(coche!$W$2=coche!$R$7,'3300'!B7,IF(coche!$W$2=coche!$R$8,'3400'!B7,IF(coche!$W$2=coche!$R$9,'3500'!B7,IF(coche!$W$2=coche!$R$10,'3600'!B7,IF(coche!$W$2=coche!$R$11,'3700'!B7,IF(coche!$W$2=coche!$R$12,'3800'!B7,IF(coche!$W$2=coche!$R$13,'3900'!B7,IF(coche!$W$2=coche!$R$14,'4000'!B7,\"\")))))))))))","v":""},{"$f":"IF($W$2=$R$4,'3000'!E7,IF(coche!$W$2=coche!$R$5,'3100'!E7,IF(coche!$W$2=coche!$R$6,'3200'!E7,IF(coche!$W$2=coche!$R$7,'3300'!E7,IF(coche!$W$2=coche!$R$8,'3400'!E7,IF(coche!$W$2=coche!$R$9,'3500'!E7,IF(coche!$W$2=coche!$R$10,'3600'!E7,IF(coche!$W$2=coche!$R$11,'3700'!E7,IF(coche!$W$2=coche!$R$12,'3800'!E7,IF(coche!$W$2=coche!$R$13,'3900'!E7,IF(coche!$W$2=coche!$R$14,'4000'!E7,\"\")))))))))))","v":""}]
["IBA0052","Etagère P500 2eme niveau G",false,null,null,null,null,null,null,null,null,null,null,null,null,null,null,3500,"IBB0350","IBB0351","Hayon impossible",null,{"$f":"IF($W$2=$R$4,'3000'!A8,IF(coche!$W$2=coche!$R$5,'3100'!A8,IF(coche!$W$2=coche!$R$6,'3200'!A8,IF(coche!$W$2=coche!$R$7,'3300'!A8,IF(coche!$W$2=coche!$R$8,'3400'!A8,IF(coche!$W$2=coche!$R$9,'3500'!A8,IF(coche!$W$2=coche!$R$10,'3600'!A8,IF(coche!$W$2=coche!$R$11,'3700'!A8,IF(coche!$W$2=coche!$R$12,'3800'!A8,IF(coche!$W$2=coche!$R$13,'3900'!A8,IF(coche!$W$2=coche!$R$14,'4000'!A8,\"\")))))))))))","v":""},{"$f":"IF($W$2=$R$4,'3000'!B8,IF(coche!$W$2=coche!$R$5,'3100'!B8,IF(coche!$W$2=coche!$R$6,'3200'!B8,IF(coche!$W$2=coche!$R$7,'3300'!B8,IF(coche!$W$2=coche!$R$8,'3400'!B8,IF(coche!$W$2=coche!$R$9,'3500'!B8,IF(coche!$W$2=coche!$R$10,'3600'!B8,IF(coche!$W$2=coche!$R$11,'3700'!B8,IF(coche!$W$2=coche!$R$12,'3800'!B8,IF(coche!$W$2=coche!$R$13,'3900'!B8,IF(coche!$W$2=coche!$R$14,'4000'!B8,\"\")))))))))))","v":""},{"$f":"IF($W$2=$R$4,'3000'!E8,IF(coche!$W$2=coche!$R$5,'3100'!E8,IF(coche!$W$2=coche!$R$6,'3200'!E8,IF(coche!$W$2=coche!$R$7,'3300'!E8,IF(coche!$W$2=coche!$R$8,'3400'!E8,IF(coche!$W$2=coche!$R$9,'3500'!E8,IF(coche!$W$2=coche!$R$10,'3600'!E8,IF(coche!$W$2=coche!$R$11,'3700'!E8,IF(coche!$W$2=coche!$R$12,'3800'!E8,IF(coche!$W$2=coche!$R$13,'3900'!E8,IF(coche!$W$2=coche!$R$14,'4000'!E8,\"\")))))))))))","v":""}]
["IBA0053","Cloison int Fixe",false,null,null,null,null,null,null,null,null,null,null,null,null,null,null,3600,"IBB0360","IBB0361","Hayon impossible",null,{"$f":"IF($W$2=$R$4,'3000'!A9,IF(coche!$W$2=coche!$R$5,'3100'!A9,IF(coche!$W$2=coche!$R$6,'3200'!A9,IF(coche!$W$2=coche!$R$7,'3300'!A9,IF(coche!$W$2=coche!$R$8,'3400'!A9,IF(coche!$W$2=coche!$R$9,'3500'!A9,IF(coche!$W$2=coche!$R$10,'3600'!A9,IF(coche!$W$2=coche!$R$11,'3700'!A9,IF(coche!$W$2=coche!$R$12,'3800'!A9,IF(coche!$W$2=coche!$R$13,'3900'!A9,IF(coche!$W$2=coche!$R$14,'4000'!A9,\"\")))))))))))","v":""},{"$f":"IF($W$2=$R$4,'3000'!B9,IF(coche!$W$2=coche!$R$5,'3100'!B9,IF(coche!$W$2=coche!$R$6,'3200'!B9,IF(coche!$W$2=coche!$R$7,'3300'!B9,IF(coche!$W$2=coche!$R$8,'3400'!B9,IF(coche!$W$2=coche!$R$9,'3500'!B9,IF(coche!$W$2=coche!$R$10,'3600'!B9,IF(coche!$W$2=coche!$R$11,'3700'!B9,IF(coche!$W$2=coche!$R$12,'3800'!B9,IF(coche!$W$2=coche!$R$13,'3900'!B9,IF(coche!$W$2=coche!$R$14,'4000'!B9,\"\")))))))))))","v":""},{"$f":"IF($W$2=$R$4,'3000'!E9,IF(coche!$W$2=coche!$R$5,'3100'!E9,IF(coche!$W$2=coche!$R$6,'3200'!E9,IF(coche!$W$2=coche!$R$7,'3300'!E9,IF(coche!$W$2=coche!$R$8,'3400'!E9,IF(coche!$W$2=coche!$R$9,'3500'!E9,IF(coche!$W$2=coche!$R$10,'3600'!E9,IF(coche!$W$2=coche!$R$11,'3700'!E9,IF(coche!$W$2=coche!$R$12,'3800'!E9,IF(coche!$W$2=coche!$R$13,'3900'!E9,IF(coche!$W$2=coche!$R$14,'4000'!E9,\"\")))))))))))","v":""}]
["IBA0054","Cloison int mobile",false,null,null,null,null,1,null,null,null,null,null,null,null,null,null,3700,"IBB0370","IBB0371","Hayon impossible",null,{"$f":"IF($W$2=$R$4,'3000'!A10,IF(coche!$W$2=coche!$R$5,'3100'!A10,IF(coche!$W$2=coche!$R$6,'3200'!A10,IF(coche!$W$2=coche!$R$7,'3300'!A10,IF(coche!$W$2=coche!$R$8,'3400'!A10,IF(coche!$W$2=coche!$R$9,'3500'!A10,IF(coche!$W$2=coche!$R$10,'3600'!A10,IF(coche!$W$2=coche!$R$11,'3700'!A10,IF(coche!$W$2=coche!$R$12,'3800'!A10,IF(coche!$W$2=coche!$R$13,'3900'!A10,IF(coche!$W$2=coche!$R$14,'4000'!A10,\"\")))))))))))","v":""},{"$f":"IF($W$2=$R$4,'3000'!B10,IF(coche!$W$2=coche!$R$5,'3100'!B10,IF(coche!$W$2=coche!$R$6,'3200'!B10,IF(coche!$W$2=coche!$R$7,'3300'!B10,IF(coche!$W$2=coche!$R$8,'3400'!B10,IF(coche!$W$2=coche!$R$9,'3500'!B10,IF(coche!$W$2=coche!$R$10,'3600'!B10,IF(coche!$W$2=coche!$R$11,'3700'!B10,IF(coche!$W$2=coche!$R$12,'3800'!B10,IF(coche!$W$2=coche!$R$13,'3900'!B10,IF(coche!$W$2=coche!$R$14,'4000'!B10,\"\")))))))))))","v":""},{"$f":"IF($W$2=$R$4,'3000'!E10,IF(coche!$W$2=coche!$R$5,'3100'!E10,IF(coche!$W$2=coche!$R$6,'3200'!E10,IF(coche!$W$2=coche!$R$7,'3300'!E10,IF(coche!$W$2=coche!$R$8,'3400'!E10,IF(coche!$W$2=coche!$R$9,'3500'!E10,IF(coche!$W$2=coche!$R$10,'3600'!E10,IF(coche!$W$2=coche!$R$11,'3700'!E10,IF(coche!$W$2=coche!$R$12,'3800'!E10,IF(coche!$W$2=coche!$R$13,'3900'!E10,IF(coche!$W$2=coche!$R$14,'4000'!E10,\"\")))))))))))","v":""}]
["IBA0055","Hayon",false,null,null,null,1,{"$f":"VLOOKUP($H$2,$G$3:$L$7,3,)","v":0},null,null,null,null,null,null,null,null,null,3800,"IBB0380","IBB0381","Hayon impossible",null,{"$f":"IF($W$2=$R$4,'3000'!A11,IF(coche!$W$2=coche!$R$5,'3100'!A11,IF(coche!$W$2=coche!$R$6,'3200'!A11,IF(coche!$W$2=coche!$R$7,'3300'!A11,IF(coche!$W$2=coche!$R$8,'3400'!A11,IF(coche!$W$2=coche!$R$9,'3500'!A11,IF(coche!$W$2=coche!$R$10,'3600'!A11,IF(coche!$W$2=coche!$R$11,'3700'!A11,IF(coche!$W$2=coche!$R$12,'3800'!A11,IF(coche!$W$2=coche!$R$13,'3900'!A11,IF(coche!$W$2=coche!$R$14,'4000'!A11,\"\")))))))))))","v":""},{"$f":"IF($W$2=$R$4,'3000'!B11,IF(coche!$W$2=coche!$R$5,'3100'!B11,IF(coche!$W$2=coche!$R$6,'3200'!B11,IF(coche!$W$2=coche!$R$7,'3300'!B11,IF(coche!$W$2=coche!$R$8,'3400'!B11,IF(coche!$W$2=coche!$R$9,'3500'!B11,IF(coche!$W$2=coche!$R$10,'3600'!B11,IF(coche!$W$2=coche!$R$11,'3700'!B11,IF(coche!$W$2=coche!$R$12,'3800'!B11,IF(coche!$W$2=coche!$R$13,'3900'!B11,IF(coche!$W$2=coche!$R$14,'4000'!B11,\"\")))))))))))","v":""},{"$f":"IF($W$2=$R$4,'3000'!E11,IF(coche!$W$2=coche!$R$5,'3100'!E11,IF(coche!$W$2=coche!$R$6,'3200'!E11,IF(coche!$W$2=coche!$R$7,'3300'!E11,IF(coche!$W$2=coche!$R$8,'3400'!E11,IF(coche!$W$2=coche!$R$9,'3500'!E11,IF(coche!$W$2=coche!$R$10,'3600'!E11,IF(coche!$W$2=coche!$R$11,'3700'!E11,IF(coche!$W$2=coche!$R$12,'3800'!E11,IF(coche!$W$2=coche!$R$13,'3900'!E11,IF(coche!$W$2=coche!$R$14,'4000'!E11,\"\")))))))))))","v":""}]
["IBA0057","Escabeau escamotable",false,null,null,null,2,{"$f":"VLOOKUP($H$2,$G$3:$L$7,4,)","v":0},null,null,null,null,null,null,null,null,null,3900,"IBB0390","IBB0391",null,null,{"$f":"IF($W$2=$R$4,'3000'!A12,IF(coche!$W$2=coche!$R$5,'3100'!A12,IF(coche!$W$2=coche!$R$6,'3200'!A12,IF(coche!$W$2=coche!$R$7,'3300'!A12,IF(coche!$W$2=coche!$R$8,'3400'!A12,IF(coche!$W$2=coche!$R$9,'3500'!A12,IF(coche!$W$2=coche!$R$10,'3600'!A12,IF(coche!$W$2=coche!$R$11,'3700'!A12,IF(coche!$W$2=coche!$R$12,'3800'!A12,IF(coche!$W$2=coche!$R$13,'3900'!A12,IF(coche!$W$2=coche!$R$14,'4000'!A12,\"\")))))))))))","v":""},{"$f":"IF($W$2=$R$4,'3000'!B12,IF(coche!$W$2=coche!$R$5,'3100'!B12,IF(coche!$W$2=coche!$R$6,'3200'!B12,IF(coche!$W$2=coche!$R$7,'3300'!B12,IF(coche!$W$2=coche!$R$8,'3400'!B12,IF(coche!$W$2=coche!$R$9,'3500'!B12,IF(coche!$W$2=coche!$R$10,'3600'!B12,IF(coche!$W$2=coche!$R$11,'3700'!B12,IF(coche!$W$2=coche!$R$12,'3800'!B12,IF(coche!$W$2=coche!$R$13,'3900'!B12,IF(coche!$W$2=coche!$R$14,'4000'!B12,\"\")))))))))))","v":""},{"$f":"IF($W$2=$R$4,'3000'!E12,IF(coche!$W$2=coche!$R$5,'3100'!E12,IF(coche!$W$2=coche!$R$6,'3200'!E12,IF(coche!$W$2=coche!$R$7,'3300'!E12,IF(coche!$W$2=coche!$R$8,'3400'!E12,IF(coche!$W$2=coche!$R$9,'3500'!E12,IF(coche!$W$2=coche!$R$10,'3600'!E12,IF(coche!$W$2=coche!$R$11,'3700'!E12,IF(coche!$W$2=coche!$R$12,'3800'!E12,IF(coche!$W$2=coche!$R$13,'3900'!E12,IF(coche!$W$2=coche!$R$14,'4000'!E12,\"\")))))))))))","v":""}]
["IBA0061","Déflecteur",false,null,null,null,3,{"$f":"VLOOKUP($H$2,$G$3:$L$7,5,)","v":0},null,null,null,null,null,null,null,null,null,4000,"IBB0400","IBB0401",null,null,{"$f":"IF($W$2=$R$4,'3000'!A13,IF(coche!$W$2=coche!$R$5,'3100'!A13,IF(coche!$W$2=coche!$R$6,'3200'!A13,IF(coche!$W$2=coche!$R$7,'3300'!A13,IF(coche!$W$2=coche!$R$8,'3400'!A13,IF(coche!$W$2=coche!$R$9,'3500'!A13,IF(coche!$W$2=coche!$R$10,'3600'!A13,IF(coche!$W$2=coche!$R$11,'3700'!A13,IF(coche!$W$2=coche!$R$12,'3800'!A13,IF(coche!$W$2=coche!$R$13,'3900'!A13,IF(coche!$W$2=coche!$R$14,'4000'!A13,\"\")))))))))))","v":""},{"$f":"IF($W$2=$R$4,'3000'!B13,IF(coche!$W$2=coche!$R$5,'3100'!B13,IF(coche!$W$2=coche!$R$6,'3200'!B13,IF(coche!$W$2=coche!$R$7,'3300'!B13,IF(coche!$W$2=coche!$R$8,'3400'!B13,IF(coche!$W$2=coche!$R$9,'3500'!B13,IF(coche!$W$2=coche!$R$10,'3600'!B13,IF(coche!$W$2=coche!$R$11,'3700'!B13,IF(coche!$W$2=coche!$R$12,'3800'!B13,IF(coche!$W$2=coche!$R$13,'3900'!B13,IF(coche!$W$2=coche!$R$14,'4000'!B13,\"\")))))))))))","v":""},{"$f":"IF($W$2=$R$4,'3000'!E13,IF(coche!$W$2=coche!$R$5,'3100'!E13,IF(coche!$W$2=coche!$R$6,'3200'!E13,IF(coche!$W$2=coche!$R$7,'3300'!E13,IF(coche!$W$2=coche!$R$8,'3400'!E13,IF(coche!$W$2=coche!$R$9,'3500'!E13,IF(coche!$W$2=coche!$R$10,'3600'!E13,IF(coche!$W$2=coche!$R$11,'3700'!E13,IF(coche!$W$2=coche!$R$12,'3800'!E13,IF(coche!$W$2=coche!$R$13,'3900'!E13,IF(coche!$W$2=coche!$R$14,'4000'!E13,\"\")))))))))))","v":""}]
["IBA0065","Retenue de porte magnétique",false,null,null,null,4,{"$f":"VLOOKUP($H$2,$G$3:$L$7,6,)","v":0},null,null,null,null,null,null,null,null,null,null,null,null,null,null,{"$f":"IF($W$2=$R$4,'3000'!A14,IF(coche!$W$2=coche!$R$5,'3100'!A14,IF(coche!$W$2=coche!$R$6,'3200'!A14,IF(coche!$W$2=coche!$R$7,'3300'!A14,IF(coche!$W$2=coche!$R$8,'3400'!A14,IF(coche!$W$2=coche!$R$9,'3500'!A14,IF(coche!$W$2=coche!$R$10,'3600'!A14,IF(coche!$W$2=coche!$R$11,'3700'!A14,IF(coche!$W$2=coche!$R$12,'3800'!A14,IF(coche!$W$2=coche!$R$13,'3900'!A14,IF(coche!$W$2=coche!$R$14,'4000'!A14,\"\")))))))))))","v":""},{"$f":"IF($W$2=$R$4,'3000'!B14,IF(coche!$W$2=coche!$R$5,'3100'!B14,IF(coche!$W$2=coche!$R$6,'3200'!B14,IF(coche!$W$2=coche!$R$7,'3300'!B14,IF(coche!$W$2=coche!$R$8,'3400'!B14,IF(coche!$W$2=coche!$R$9,'3500'!B14,IF(coche!$W$2=coche!$R$10,'3600'!B14,IF(coche!$W$2=coche!$R$11,'3700'!B14,IF(coche!$W$2=coche!$R$12,'3800'!B14,IF(coche!$W$2=coche!$R$13,'3900'!B14,IF(coche!$W$2=coche!$R$14,'4000'!B14,\"\")))))))))))","v":""},{"$f":"IF($W$2=$R$4,'3000'!E14,IF(coche!$W$2=coche!$R$5,'3100'!E14,IF(coche!$W$2=coche!$R$6,'3200'!E14,IF(coche!$W$2=coche!$R$7,'3300'!E14,IF(coche!$W$2=coche!$R$8,'3400'!E14,IF(coche!$W$2=coche!$R$9,'3500'!E14,IF(coche!$W$2=coche!$R$10,'3600'!E14,IF(coche!$W$2=coche!$R$11,'3700'!E14,IF(coche!$W$2=coche!$R$12,'3800'!E14,IF(coche!$W$2=coche!$R$13,'3900'!E14,IF(coche!$W$2=coche!$R$14,'4000'!E14,\"\")))))))))))","v":""}]
["IBA0034","Roues simples",false,1,{"$f":"IF(C16=TRUE,D16,\"\")","v":""},{"$f":"SUM(E16:E17)","v":0},5,{"$f":"VLOOKUP($H$2,$G$3:$P$7,7,)","v":0},null,null,null,null,null,null,null,null,null,null,null,null,null,null,{"$f":"IF($W$2=$R$4,'3000'!A15,IF(coche!$W$2=coche!$R$5,'3100'!A15,IF(coche!$W$2=coche!$R$6,'3200'!A15,IF(coche!$W$2=coche!$R$7,'3300'!A15,IF(coche!$W$2=coche!$R$8,'3400'!A15,IF(coche!$W$2=coche!$R$9,'3500'!A15,IF(coche!$W$2=coche!$R$10,'3600'!A15,IF(coche!$W$2=coche!$R$11,'3700'!A15,IF(coche!$W$2=coche!$R$12,'3800'!A15,IF(coche!$W$2=coche!$R$13,'3900'!A15,IF(coche!$W$2=coche!$R$14,'4000'!A15,\"\")))))))))))","v":""},{"$f":"IF($W$2=$R$4,'3000'!B15,IF(coche!$W$2=coche!$R$5,'3100'!B15,IF(coche!$W$2=coche!$R$6,'3200'!B15,IF(coche!$W$2=coche!$R$7,'3300'!B15,IF(coche!$W$2=coche!$R$8,'3400'!B15,IF(coche!$W$2=coche!$R$9,'3500'!B15,IF(coche!$W$2=coche!$R$10,'3600'!B15,IF(coche!$W$2=coche!$R$11,'3700'!B15,IF(coche!$W$2=coche!$R$12,'3800'!B15,IF(coche!$W$2=coche!$R$13,'3900'!B15,IF(coche!$W$2=coche!$R$14,'4000'!B15,\"\")))))))))))","v":""},{"$f":"IF($W$2=$R$4,'3000'!E15,IF(coche!$W$2=coche!$R$5,'3100'!E15,IF(coche!$W$2=coche!$R$6,'3200'!E15,IF(coche!$W$2=coche!$R$7,'3300'!E15,IF(coche!$W$2=coche!$R$8,'3400'!E15,IF(coche!$W$2=coche!$R$9,'3500'!E15,IF(coche!$W$2=coche!$R$10,'3600'!E15,IF(coche!$W$2=coche!$R$11,'3700'!E15,IF(coche!$W$2=coche!$R$12,'3800'!E15,IF(coche!$W$2=coche!$R$13,'3900'!E15,IF(coche!$W$2=coche!$R$14,'4000'!E15,\"\")))))))))))","v":""}]
["IBA0035","Roues Jumelées",false,2,{"$f":"IF(C17=TRUE,D17,\"\")","v":""},null,6,{"$f":"VLOOKUP($H$2,$G$3:$P$7,8,)","v":0},null,null,null,null,null,null,null,null,null,null,null,null,null,null,{"$f":"IF($W$2=$R$4,'3000'!A16,IF(coche!$W$2=coche!$R$5,'3100'!A16,IF(coche!$W$2=coche!$R$6,'3200'!A16,IF(coche!$W$2=coche!$R$7,'3300'!A16,IF(coche!$W$2=coche!$R$8,'3400'!A16,IF(coche!$W$2=coche!$R$9,'3500'!A16,IF(coche!$W$2=coche!$R$10,'3600'!A16,IF(coche!$W$2=coche!$R$11,'3700'!A16,IF(coche!$W$2=coche!$R$12,'3800'!A16,IF(coche!$W$2=coche!$R$13,'3900'!A16,IF(coche!$W$2=coche!$R$14,'4000'!A16,\"\")))))))))))","v":""},{"$f":"IF($W$2=$R$4,'3000'!B16,IF(coche!$W$2=coche!$R$5,'3100'!B16,IF(coche!$W$2=coche!$R$6,'3200'!B16,IF(coche!$W$2=coche!$R$7,'3300'!B16,IF(coche!$W$2=coche!$R$8,'3400'!B16,IF(coche!$W$2=coche!$R$9,'3500'!B16,IF(coche!$W$2=coche!$R$10,'3600'!B16,IF(coche!$W$2=coche!$R$11,'3700'!B16,IF(coche!$W$2=coche!$R$12,'3800'!B16,IF(coche!$W$2=coche!$R$13,'3900'!B16,IF(coche!$W$2=coche!$R$14,'4000'!B16,\"\")))))))))))","v":""},{"$f":"IF($W$2=$R$4,'3000'!E16,IF(coche!$W$2=coche!$R$5,'3100'!E16,IF(coche!$W$2=coche!$R$6,'3200'!E16,IF(coche!$W$2=coche!$R$7,'3300'!E16,IF(coche!$W$2=coche!$R$8,'3400'!E16,IF(coche!$W$2=coche!$R$9,'3500'!E16,IF(coche!$W$2=coche!$R$10,'3600'!E16,IF(coche!$W$2=coche!$R$11,'3700'!E16,IF(coche!$W$2=coche!$R$12,'3800'!E16,IF(coche!$W$2=coche!$R$13,'3900'!E16,IF(coche!$W$2=coche!$R$14,'4000'!E16,\"\")))))))))))","v":""}]
["IBA0056","Prédisp Hayon",false,null,null,null,7,{"$f":"VLOOKUP($H$2,$G$3:$P$7,9,)","v":0},null,null,null,null,null,null,null,null,null,null,null,null,null,null,{"$f":"IF($W$2=$R$4,'3000'!A17,IF(coche!$W$2=coche!$R$5,'3100'!A17,IF(coche!$W$2=coche!$R$6,'3200'!A17,IF(coche!$W$2=coche!$R$7,'3300'!A17,IF(coche!$W$2=coche!$R$8,'3400'!A17,IF(coche!$W$2=coche!$R$9,'3500'!A17,IF(coche!$W$2=coche!$R$10,'3600'!A17,IF(coche!$W$2=coche!$R$11,'3700'!A17,IF(coche!$W$2=coche!$R$12,'3800'!A17,IF(coche!$W$2=coche!$R$13,'3900'!A17,IF(coche!$W$2=coche!$R$14,'4000'!A17,\"\")))))))))))","v":""},{"$f":"IF($W$2=$R$4,'3000'!B17,IF(coche!$W$2=coche!$R$5,'3100'!B17,IF(coche!$W$2=coche!$R$6,'3200'!B17,IF(coche!$W$2=coche!$R$7,'3300'!B17,IF(coche!$W$2=coche!$R$8,'3400'!B17,IF(coche!$W$2=coche!$R$9,'3500'!B17,IF(coche!$W$2=coche!$R$10,'3600'!B17,IF(coche!$W$2=coche!$R$11,'3700'!B17,IF(coche!$W$2=coche!$R$12,'3800'!B17,IF(coche!$W$2=coche!$R$13,'3900'!B17,IF(coche!$W$2=coche!$R$14,'4000'!B17,\"\")))))))))))","v":""},{"$f":"IF($W$2=$R$4,'3000'!E17,IF(coche!$W$2=coche!$R$5,'3100'!E17,IF(coche!$W$2=coche!$R$6,'3200'!E17,IF(coche!$W$2=coche!$R$7,'3300'!E17,IF(coche!$W$2=coche!$R$8,'3400'!E17,IF(coche!$W$2=coche!$R$9,'3500'!E17,IF(coche!$W$2=coche!$R$10,'3600'!E17,IF(coche!$W$2=coche!$R$11,'3700'!E17,IF(coche!$W$2=coche!$R$12,'3800'!E17,IF(coche!$W$2=coche!$R$13,'3900'!E17,IF(coche!$W$2=coche!$R$14,'4000'!E17,\"\")))))))))))","v":""}]
[null,null,null,null,null,null,8,{"$f":"VLOOKUP($H$2,$G$3:$P$7,10,)","v":0},null,null,null,null,null,null,null,null,null,null,null,null,null,null,{"$f":"IF($W$2=$R$4,'3000'!A18,IF(coche!$W$2=coche!$R$5,'3100'!A18,IF(coche!$W$2=coche!$R$6,'3200'!A18,IF(coche!$W$2=coche!$R$7,'3300'!A18,IF(coche!$W$2=coche!$R$8,'3400'!A18,IF(coche!$W$2=coche!$R$9,'3500'!A18,IF(coche!$W$2=coche!$R$10,'3600'!A18,IF(coche!$W$2=coche!$R$11,'3700'!A18,IF(coche!$W$2=coche!$R$12,'3800'!A18,IF(coche!$W$2=coche!$R$13,'3900'!A18,IF(coche!$W$2=coche!$R$14,'4000'!A18,\"\")))))))))))","v":""},{"$f":"IF($W$2=$R$4,'3000'!B18,IF(coche!$W$2=coche!$R$5,'3100'!B18,IF(coche!$W$2=coche!$R$6,'3200'!B18,IF(coche!$W$2=coche!$R$7,'3300'!B18,IF(coche!$W$2=coche!$R$8,'3400'!B18,IF(coche!$W$2=coche!$R$9,'3500'!B18,IF(coche!$W$2=coche!$R$10,'3600'!B18,IF(coche!$W$2=coche!$R$11,'3700'!B18,IF(coche!$W$2=coche!$R$12,'3800'!B18,IF(coche!$W$2=coche!$R$13,'3900'!B18,IF(coche!$W$2=coche!$R$14,'4000'!B18,\"\")))))))))))","v":""},{"$f":"IF($W$2=$R$4,'3000'!E18,IF(coche!$W$2=coche!$R$5,'3100'!E18,IF(coche!$W$2=coche!$R$6,'3200'!E18,IF(coche!$W$2=coche!$R$7,'3300'!E18,IF(coche!$W$2=coche!$R$8,'3400'!E18,IF(coche!$W$2=coche!$R$9,'3500'!E18,IF(coche!$W$2=coche!$R$10,'3600'!E18,IF(coche!$W$2=coche!$R$11,'3700'!E18,IF(coche!$W$2=coche!$R$12,'3800'!E18,IF(coche!$W$2=coche!$R$13,'3900'!E18,IF(coche!$W$2=coche!$R$14,'4000'!E18,\"\")))))))))))","v":""}]
[null,null,null,null,null,null,null,null,null,null,null,null,null,null,null,null,null,null,null,null,null,null,{"$f":"IF($W$2=$R$4,'3000'!A19,IF(coche!$W$2=coche!$R$5,'3100'!A19,IF(coche!$W$2=coche!$R$6,'3200'!A19,IF(coche!$W$2=coche!$R$7,'3300'!A19,IF(coche!$W$2=coche!$R$8,'3400'!A19,IF(coche!$W$2=coche!$R$9,'3500'!A19,IF(coche!$W$2=coche!$R$10,'3600'!A19,IF(coche!$W$2=coche!$R$11,'3700'!A19,IF(coche!$W$2=coche!$R$12,'3800'!A19,IF(coche!$W$2=coche!$R$13,'3900'!A19,IF(coche!$W$2=coche!$R$14,'4000'!A19,\"\")))))))))))","v":""},{"$f":"IF($W$2=$R$4,'3000'!B19,IF(coche!$W$2=coche!$R$5,'3100'!B19,IF(coche!$W$2=coche!$R$6,'3200'!B19,IF(coche!$W$2=coche!$R$7,'3300'!B19,IF(coche!$W$2=coche!$R$8,'3400'!B19,IF(coche!$W$2=coche!$R$9,'3500'!B19,IF(coche!$W$2=coche!$R$10,'3600'!B19,IF(coche!$W$2=coche!$R$11,'3700'!B19,IF(coche!$W$2=coche!$R$12,'3800'!B19,IF(coche!$W$2=coche!$R$13,'3900'!B19,IF(coche!$W$2=coche!$R$14,'4000'!B19,\"\")))))))))))","v":""},{"$f":"IF($W$2=$R$4,'3000'!E19,IF(coche!$W$2=coche!$R$5,'3100'!E19,IF(coche!$W$2=coche!$R$6,'3200'!E19,IF(coche!$W$2=coche!$R$7,'3300'!E19,IF(coche!$W$2=coche!$R$8,'3400'!E19,IF(coche!$W$2=coche!$R$9,'3500'!E19,IF(coche!$W$2=coche!$R$10,'3600'!E19,IF(coche!$W$2=coche!$R$11,'3700'!E19,IF(coche!$W$2=coche!$R$12,'3800'!E19,IF(coche!$W$2=coche!$R$13,'3900'!E19,IF(coche!$W$2=coche!$R$14,'4000'!E19,\"\")))))))))))","v":""}]
[null,null,null,null,null,null,null,null,null,null,null,null,null,null,null,null,null,null,null,null,null,null,{"$f":"IF($W$2=$R$4,'3000'!A20,IF(coche!$W$2=coche!$R$5,'3100'!A20,IF(coche!$W$2=coche!$R$6,'3200'!A20,IF(coche!$W$2=coche!$R$7,'3300'!A20,IF(coche!$W$2=coche!$R$8,'3400'!A20,IF(coche!$W$2=coche!$R$9,'3500'!A20,IF(coche!$W$2=coche!$R$10,'3600'!A20,IF(coche!$W$2=coche!$R$11,'3700'!A20,IF(coche!$W$2=coche!$R$12,'3800'!A20,IF(coche!$W$2=coche!$R$13,'3900'!A20,IF(coche!$W$2=coche!$R$14,'4000'!A20,\"\")))))))))))","v":""},{"$f":"IF($W$2=$R$4,'3000'!B20,IF(coche!$W$2=coche!$R$5,'3100'!B20,IF(coche!$W$2=coche!$R$6,'3200'!B20,IF(coche!$W$2=coche!$R$7,'3300'!B20,IF(coche!$W$2=coche!$R$8,'3400'!B20,IF(coche!$W$2=coche!$R$9,'3500'!B20,IF(coche!$W$2=coche!$R$10,'3600'!B20,IF(coche!$W$2=coche!$R$11,'3700'!B20,IF(coche!$W$2=coche!$R$12,'3800'!B20,IF(coche!$W$2=coche!$R$13,'3900'!B20,IF(coche!$W$2=coche!$R$14,'4000'!B20,\"\")))))))))))","v":""},{"$f":"IF($W$2=$R$4,'3000'!E20,IF(coche!$W$2=coche!$R$5,'3100'!E20,IF(coche!$W$2=coche!$R$6,'3200'!E20,IF(coche!$W$2=coche!$R$7,'3300'!E20,IF(coche!$W$2=coche!$R$8,'3400'!E20,IF(coche!$W$2=coche!$R$9,'3500'!E20,IF(coche!$W$2=coche!$R$10,'3600'!E20,IF(coche!$W$2=coche!$R$11,'3700'!E20,IF(coche!$W$2=coche!$R$12,'3800'!E20,IF(coche!$W$2=coche!$R$13,'3900'!E20,IF(coche!$W$2=coche!$R$14,'4000'!E20,\"\")))))))))))","v":""}]
[null,null,null,null,null,null,null,null,null,null,null,null,null,null,null,null,null,null,null,null,null,null,{"$f":"IF($W$2=$R$4,'3000'!A21,IF(coche!$W$2=coche!$R$5,'3100'!A21,IF(coche!$W$2=coche!$R$6,'3200'!A21,IF(coche!$W$2=coche!$R$7,'3300'!A21,IF(coche!$W$2=coche!$R$8,'3400'!A21,IF(coche!$W$2=coche!$R$9,'3500'!A21,IF(coche!$W$2=coche!$R$10,'3600'!A21,IF(coche!$W$2=coche!$R$11,'3700'!A21,IF(coche!$W$2=coche!$R$12,'3800'!A21,IF(coche!$W$2=coche!$R$13,'3900'!A21,IF(coche!$W$2=coche!$R$14,'4000'!A21,\"\")))))))))))","v":""},{"$f":"IF($W$2=$R$4,'3000'!B21,IF(coche!$W$2=coche!$R$5,'3100'!B21,IF(coche!$W$2=coche!$R$6,'3200'!B21,IF(coche!$W$2=coche!$R$7,'3300'!B21,IF(coche!$W$2=coche!$R$8,'3400'!B21,IF(coche!$W$2=coche!$R$9,'3500'!B21,IF(coche!$W$2=coche!$R$10,'3600'!B21,IF(coche!$W$2=coche!$R$11,'3700'!B21,IF(coche!$W$2=coche!$R$12,'3800'!B21,IF(coche!$W$2=coche!$R$13,'3900'!B21,IF(coche!$W$2=coche!$R$14,'4000'!B21,\"\")))))))))))","v":""},{"$f":"IF($W$2=$R$4,'3000'!E21,IF(coche!$W$2=coche!$R$5,'3100'!E21,IF(coche!$W$2=coche!$R$6,'3200'!E21,IF(coche!$W$2=coche!$R$7,'3300'!E21,IF(coche!$W$2=coche!$R$8,'3400'!E21,IF(coche!$W$2=coche!$R$9,'3500'!E21,IF(coche!$W$2=coche!$R$10,'3600'!E21,IF(coche!$W$2=coche!$R$11,'3700'!E21,IF(coche!$W$2=coche!$R$12,'3800'!E21,IF(coche!$W$2=coche!$R$13,'3900'!E21,IF(coche!$W$2=coche!$R$14,'4000'!E21,\"\")))))))))))","v":""}]
[null,null,null,null,null,null,null,null,null,null,null,null,null,null,null,null,null,null,null,null,null,null,{"$f":"IF($W$2=$R$4,'3000'!A22,IF(coche!$W$2=coche!$R$5,'3100'!A22,IF(coche!$W$2=coche!$R$6,'3200'!A22,IF(coche!$W$2=coche!$R$7,'3300'!A22,IF(coche!$W$2=coche!$R$8,'3400'!A22,IF(coche!$W$2=coche!$R$9,'3500'!A22,IF(coche!$W$2=coche!$R$10,'3600'!A22,IF(coche!$W$2=coche!$R$11,'3700'!A22,IF(coche!$W$2=coche!$R$12,'3800'!A22,IF(coche!$W$2=coche!$R$13,'3900'!A22,IF(coche!$W$2=coche!$R$14,'4000'!A22,\"\")))))))))))","v":""},{"$f":"IF($W$2=$R$4,'3000'!B22,IF(coche!$W$2=coche!$R$5,'3100'!B22,IF(coche!$W$2=coche!$R$6,'3200'!B22,IF(coche!$W$2=coche!$R$7,'3300'!B22,IF(coche!$W$2=coche!$R$8,'3400'!B22,IF(coche!$W$2=coche!$R$9,'3500'!B22,IF(coche!$W$2=coche!$R$10,'3600'!B22,IF(coche!$W$2=coche!$R$11,'3700'!B22,IF(coche!$W$2=coche!$R$12,'3800'!B22,IF(coche!$W$2=coche!$R$13,'3900'!B22,IF(coche!$W$2=coche!$R$14,'4000'!B22,\"\")))))))))))","v":""},{"$f":"IF($W$2=$R$4,'3000'!E22,IF(coche!$W$2=coche!$R$5,'3100'!E22,IF(coche!$W$2=coche!$R$6,'3200'!E22,IF(coche!$W$2=coche!$R$7,'3300'!E22,IF(coche!$W$2=coche!$R$8,'3400'!E22,IF(coche!$W$2=coche!$R$9,'3500'!E22,IF(coche!$W$2=coche!$R$10,'3600'!E22,IF(coche!$W$2=coche!$R$11,'3700'!E22,IF(coche!$W$2=coche!$R$12,'3800'!E22,IF(coche!$W$2=coche!$R$13,'3900'!E22,IF(coche!$W$2=coche!$R$14,'4000'!E22,\"\")))))))))))","v":""}]
[null,null,null,null,null,null,null,null,null,null,null,null,null,null,null,null,null,null,null,null,null,null,{"$f":"IF($W$2=$R$4,'3000'!A23,IF(coche!$W$2=coche!$R$5,'3100'!A23,IF(coche!$W$2=coche!$R$6,'3200'!A23,IF(coche!$W$2=coche!$R$7,'3300'!A23,IF(coche!$W$2=coche!$R$8,'3400'!A23,IF(coche!$W$2=coche!$R$9,'3500'!A23,IF(coche!$W$2=coche!$R$10,'3600'!A23,IF(coche!$W$2=coche!$R$11,'3700'!A23,IF(coche!$W$2=coche!$R$12,'3800'!A23,IF(coche!$W$2=coche!$R$13,'3900'!A23,IF(coche!$W$2=coche!$R$14,'4000'!A22,\"\")))))))))))","v":""},{"$f":"IF($W$2=$R$4,'3000'!B23,IF(coche!$W$2=coche!$R$5,'3100'!B23,IF(coche!$W$2=coche!$R$6,'3200'!B23,IF(coche!$W$2=coche!$R$7,'3300'!B23,IF(coche!$W$2=coche!$R$8,'3400'!B23,IF(coche!$W$2=coche!$R$9,'3500'!B23,IF(coche!$W$2=coche!$R$10,'3600'!B23,IF(coche!$W$2=coche!$R$11,'3700'!B23,IF(coche!$W$2=coche!$R$12,'3800'!B23,IF(coche!$W$2=coche!$R$13,'3900'!B23,IF(coche!$W$2=coche!$R$14,'4000'!B22,\"\")))))))))))","v":""},{"$f":"IF($W$2=$R$4,'3000'!E23,IF(coche!$W$2=coche!$R$5,'3100'!E23,IF(coche!$W$2=coche!$R$6,'3200'!E23,IF(coche!$W$2=coche!$R$7,'3300'!E23,IF(coche!$W$2=coche!$R$8,'3400'!E23,IF(coche!$W$2=coche!$R$9,'3500'!E23,IF(coche!$W$2=coche!$R$10,'3600'!E23,IF(coche!$W$2=coche!$R$11,'3700'!E23,IF(coche!$W$2=coche!$R$12,'3800'!E23,IF(coche!$W$2=coche!$R$13,'3900'!E23,IF(coche!$W$2=coche!$R$14,'4000'!E22,\"\")))))))))))","v":""}]
[null,null,null,null,null,null,null,null,null,null,null,null,null,null,null,null,null,null,null,null,null,null,{"$f":"IF($W$2=$R$4,'3000'!A24,IF(coche!$W$2=coche!$R$5,'3100'!A24,IF(coche!$W$2=coche!$R$6,'3200'!A24,IF(coche!$W$2=coche!$R$7,'3300'!A24,IF(coche!$W$2=coche!$R$8,'3400'!A24,IF(coche!$W$2=coche!$R$9,'3500'!A24,IF(coche!$W$2=coche!$R$10,'3600'!A24,IF(coche!$W$2=coche!$R$11,'3700'!A24,IF(coche!$W$2=coche!$R$12,'3800'!A24,IF(coche!$W$2=coche!$R$13,'3900'!A24,IF(coche!$W$2=coche!$R$14,'4000'!A23,\"\")))))))))))","v":""},{"$f":"IF($W$2=$R$4,'3000'!B24,IF(coche!$W$2=coche!$R$5,'3100'!B24,IF(coche!$W$2=coche!$R$6,'3200'!B24,IF(coche!$W$2=coche!$R$7,'3300'!B24,IF(coche!$W$2=coche!$R$8,'3400'!B24,IF(coche!$W$2=coche!$R$9,'3500'!B24,IF(coche!$W$2=coche!$R$10,'3600'!B24,IF(coche!$W$2=coche!$R$11,'3700'!B24,IF(coche!$W$2=coche!$R$12,'3800'!B24,IF(coche!$W$2=coche!$R$13,'3900'!B24,IF(coche!$W$2=coche!$R$14,'4000'!B23,\"\")))))))))))","v":""},{"$f":"IF($W$2=$R$4,'3000'!E24,IF(coche!$W$2=coche!$R$5,'3100'!E24,IF(coche!$W$2=coche!$R$6,'3200'!E24,IF(coche!$W$2=coche!$R$7,'3300'!E24,IF(coche!$W$2=coche!$R$8,'3400'!E24,IF(coche!$W$2=coche!$R$9,'3500'!E24,IF(coche!$W$2=coche!$R$10,'3600'!E24,IF(coche!$W$2=coche!$R$11,'3700'!E24,IF(coche!$W$2=coche!$R$12,'3800'!E24,IF(coche!$W$2=coche!$R$13,'3900'!E24,IF(coche!$W$2=coche!$R$14,'4000'!E23,\"\")))))))))))","v":""}]
[null,null,null,null,null,null,null,null,null,null,null,null,null,null,null,null,null,null,null,null,null,null,{"$f":"IF($W$2=$R$4,'3000'!A25,IF(coche!$W$2=coche!$R$5,'3100'!A25,IF(coche!$W$2=coche!$R$6,'3200'!A25,IF(coche!$W$2=coche!$R$7,'3300'!A25,IF(coche!$W$2=coche!$R$8,'3400'!A25,IF(coche!$W$2=coche!$R$9,'3500'!A25,IF(coche!$W$2=coche!$R$10,'3600'!A25,IF(coche!$W$2=coche!$R$11,'3700'!A25,IF(coche!$W$2=coche!$R$12,'3800'!A25,IF(coche!$W$2=coche!$R$13,'3900'!A25,IF(coche!$W$2=coche!$R$14,'4000'!A24,\"\")))))))))))","v":""},{"$f":"IF($W$2=$R$4,'3000'!B24,IF(coche!$W$2=coche!$R$5,'3100'!B24,IF(coche!$W$2=coche!$R$6,'3200'!B24,IF(coche!$W$2=coche!$R$7,'3300'!B24,IF(coche!$W$2=coche!$R$8,'3400'!B24,IF(coche!$W$2=coche!$R$9,'3500'!B24,IF(coche!$W$2=coche!$R$10,'3600'!B24,IF(coche!$W$2=coche!$R$11,'3700'!B24,IF(coche!$W$2=coche!$R$12,'3800'!B24,IF(coche!$W$2=coche!$R$13,'3900'!B24,IF(coche!$W$2=coche!$R$14,'4000'!B24,\"\")))))))))))","v":""},{"$f":"IF($W$2=$R$4,'3000'!C24,IF(coche!$W$2=coche!$R$5,'3100'!C24,IF(coche!$W$2=coche!$R$6,'3200'!C24,IF(coche!$W$2=coche!$R$7,'3300'!C24,IF(coche!$W$2=coche!$R$8,'3400'!C24,IF(coche!$W$2=coche!$R$9,'3500'!C24,IF(coche!$W$2=coche!$R$10,'3600'!C24,IF(coche!$W$2=coche!$R$11,'3700'!C24,IF(coche!$W$2=coche!$R$12,'3800'!C24,IF(coche!$W$2=coche!$R$13,'3900'!C24,IF(coche!$W$2=coche!$R$14,'4000'!C24,\"\")))))))))))","v":""}]
[]
[]
[null,null,null,null,null,null,null,null,null,null,null,null,null,null,null,null,null,null,null,null,null,null,"EKDIVER",{"$f":"IF($W$2=$R$4,'3000'!B23,IF(coche!$W$2=coche!$R$5,'3100'!B23,IF(coche!$W$2=coche!$R$6,'3200'!B23,IF(coche!$W$2=coche!$R$7,'3300'!B23,IF(coche!$W$2=coche!$R$8,'3400'!B23,IF(coche!$W$2=coche!$R$9,'3500'!B23,IF(coche!$W$2=coche!$R$10,'3600'!B23,IF(coche!$W$2=coche!$R$11,'3700'!B23,IF(coche!$W$2=coche!$R$12,'3800'!B23,IF(coche!$W$2=coche!$R$13,'3900'!B23,IF(coche!$W$2=coche!$R$14,'4000'!B23,\"\")))))))))))","v":""},{"$f":"IF($W$2=$R$4,'3000'!E23,IF(coche!$W$2=coche!$R$5,'3100'!E23,IF(coche!$W$2=coche!$R$6,'3200'!E23,IF(coche!$W$2=coche!$R$7,'3300'!E23,IF(coche!$W$2=coche!$R$8,'3400'!E23,IF(coche!$W$2=coche!$R$9,'3500'!E23,IF(coche!$W$2=coche!$R$10,'3600'!E23,IF(coche!$W$2=coche!$R$11,'3700'!E23,IF(coche!$W$2=coche!$R$12,'3800'!E23,IF(coche!$W$2=coche!$R$13,'3900'!E23,IF(coche!$W$2=coche!$R$14,'4000'!E23,\"\")))))))))))","v":""}]
[null,null,null,null,null,null,null,null,null,null,null,null,null,null,null,null,null,null,null,null,null,null,"EKDIVER",{"$f":"IF($W$2=$R$4,'3000'!B25,IF(coche!$W$2=coche!$R$5,'3100'!B25,IF(coche!$W$2=coche!$R$6,'3200'!B25,IF(coche!$W$2=coche!$R$7,'3300'!B25,IF(coche!$W$2=coche!$R$8,'3400'!B25,IF(coche!$W$2=coche!$R$9,'3500'!B25,IF(coche!$W$2=coche!$R$10,'3600'!B25,IF(coche!$W$2=coche!$R$11,'3700'!B25,IF(coche!$W$2=coche!$R$12,'3800'!B25,IF(coche!$W$2=coche!$R$13,'3900'!B25,IF(coche!$W$2=coche!$R$14,'4000'!B25,\"\")))))))))))","v":""},{"$f":"IF($W$2=$R$4,'3000'!E25,IF(coche!$W$2=coche!$R$5,'3100'!E25,IF(coche!$W$2=coche!$R$6,'3200'!E25,IF(coche!$W$2=coche!$R$7,'3300'!E25,IF(coche!$W$2=coche!$R$8,'3400'!E25,IF(coche!$W$2=coche!$R$9,'3500'!E25,IF(coche!$W$2=coche!$R$10,'3600'!E25,IF(coche!$W$2=coche!$R$11,'3700'!E25,IF(coche!$W$2=coche!$R$12,'3800'!E25,IF(coche!$W$2=coche!$R$13,'3900'!E25,IF(coche!$W$2=coche!$R$14,'4000'!E25,\"\")))))))))))","v":""}]
[null,null,null,null,null,null,null,null,null,null,null,null,null,null,null,null,null,null,null,null,null,null,"EKDIVER",{"$f":"IF($W$2=$R$4,'3000'!B26,IF(coche!$W$2=coche!$R$5,'3100'!B26,IF(coche!$W$2=coche!$R$6,'3200'!B26,IF(coche!$W$2=coche!$R$7,'3300'!B26,IF(coche!$W$2=coche!$R$8,'3400'!B26,IF(coche!$W$2=coche!$R$9,'3500'!B26,IF(coche!$W$2=coche!$R$10,'3600'!B26,IF(coche!$W$2=coche!$R$11,'3700'!B26,IF(coche!$W$2=coche!$R$12,'3800'!B26,IF(coche!$W$2=coche!$R$13,'3900'!B26,IF(coche!$W$2=coche!$R$14,'4000'!B26,\"\")))))))))))","v":""},{"$f":"IF($W$2=$R$4,'3000'!E26,IF(coche!$W$2=coche!$R$5,'3100'!E26,IF(coche!$W$2=coche!$R$6,'3200'!E26,IF(coche!$W$2=coche!$R$7,'3300'!E26,IF(coche!$W$2=coche!$R$8,'3400'!E26,IF(coche!$W$2=coche!$R$9,'3500'!E26,IF(coche!$W$2=coche!$R$10,'3600'!E26,IF(coche!$W$2=coche!$R$11,'3700'!E26,IF(coche!$W$2=coche!$R$12,'3800'!E26,IF(coche!$W$2=coche!$R$13,'3900'!E26,IF(coche!$W$2=coche!$R$14,'4000'!E26,\"\")))))))))))","v":""}]
[null,null,null,null,null,null,null,null,null,null,null,null,null,null,null,null,null,null,null,null,null,null,"EKDIVER",{"$f":"IF($W$2=$R$4,'3000'!B27,IF(coche!$W$2=coche!$R$5,'3100'!B27,IF(coche!$W$2=coche!$R$6,'3200'!B27,IF(coche!$W$2=coche!$R$7,'3300'!B27,IF(coche!$W$2=coche!$R$8,'3400'!B27,IF(coche!$W$2=coche!$R$9,'3500'!B27,IF(coche!$W$2=coche!$R$10,'3600'!B27,IF(coche!$W$2=coche!$R$11,'3700'!B27,IF(coche!$W$2=coche!$R$12,'3800'!B27,IF(coche!$W$2=coche!$R$13,'3900'!B27,IF(coche!$W$2=coche!$R$14,'4000'!B27,\"\")))))))))))","v":""},{"$f":"IF($W$2=$R$4,'3000'!E27,IF(coche!$W$2=coche!$R$5,'3100'!E27,IF(coche!$W$2=coche!$R$6,'3200'!E27,IF(coche!$W$2=coche!$R$7,'3300'!E27,IF(coche!$W$2=coche!$R$8,'3400'!E27,IF(coche!$W$2=coche!$R$9,'3500'!E27,IF(coche!$W$2=coche!$R$10,'3600'!E27,IF(coche!$W$2=coche!$R$11,'3700'!E27,IF(coche!$W$2=coche!$R$12,'3800'!E27,IF(coche!$W$2=coche!$R$13,'3900'!E27,IF(coche!$W$2=coche!$R$14,'4000'!E27,\"\")))))))))))","v":""}]
[null,null,null,null,null,null,null,null,null,null,null,null,null,null,null,null,null,null,null,null,null,null,"EKDIVER",{"$f":"IF($W$2=$R$4,'3000'!B28,IF(coche!$W$2=coche!$R$5,'3100'!B28,IF(coche!$W$2=coche!$R$6,'3200'!B28,IF(coche!$W$2=coche!$R$7,'3300'!B28,IF(coche!$W$2=coche!$R$8,'3400'!B28,IF(coche!$W$2=coche!$R$9,'3500'!B28,IF(coche!$W$2=coche!$R$10,'3600'!B28,IF(coche!$W$2=coche!$R$11,'3700'!B28,IF(coche!$W$2=coche!$R$12,'3800'!B28,IF(coche!$W$2=coche!$R$13,'3900'!B28,IF(coche!$W$2=coche!$R$14,'4000'!B28,\"\")))))))))))","v":""},{"$f":"IF($W$2=$R$4,'3000'!E28,IF(coche!$W$2=coche!$R$5,'3100'!E28,IF(coche!$W$2=coche!$R$6,'3200'!E28,IF(coche!$W$2=coche!$R$7,'3300'!E28,IF(coche!$W$2=coche!$R$8,'3400'!E28,IF(coche!$W$2=coche!$R$9,'3500'!E28,IF(coche!$W$2=coche!$R$10,'3600'!E28,IF(coche!$W$2=coche!$R$11,'3700'!E28,IF(coche!$W$2=coche!$R$12,'3800'!E28,IF(coche!$W$2=coche!$R$13,'3900'!E28,IF(coche!$W$2=coche!$R$14,'4000'!E28,\"\")))))))))))","v":""}]
[null,null,null,null,null,null,null,null,null,null,null,null,null,null,null,null,null,null,null,null,null,null,"EKDIVER",{"$f":"IF($W$2=$R$4,'3000'!B29,IF(coche!$W$2=coche!$R$5,'3100'!B29,IF(coche!$W$2=coche!$R$6,'3200'!B29,IF(coche!$W$2=coche!$R$7,'3300'!B29,IF(coche!$W$2=coche!$R$8,'3400'!B29,IF(coche!$W$2=coche!$R$9,'3500'!B29,IF(coche!$W$2=coche!$R$10,'3600'!B29,IF(coche!$W$2=coche!$R$11,'3700'!B29,IF(coche!$W$2=coche!$R$12,'3800'!B29,IF(coche!$W$2=coche!$R$13,'3900'!B29,IF(coche!$W$2=coche!$R$14,'4000'!B29,\"\")))))))))))","v":""},{"$f":"IF($W$2=$R$4,'3000'!E29,IF(coche!$W$2=coche!$R$5,'3100'!E29,IF(coche!$W$2=coche!$R$6,'3200'!E29,IF(coche!$W$2=coche!$R$7,'3300'!E29,IF(coche!$W$2=coche!$R$8,'3400'!E29,IF(coche!$W$2=coche!$R$9,'3500'!E29,IF(coche!$W$2=coche!$R$10,'3600'!E29,IF(coche!$W$2=coche!$R$11,'3700'!E29,IF(coche!$W$2=coche!$R$12,'3800'!E29,IF(coche!$W$2=coche!$R$13,'3900'!E29,IF(coche!$W$2=coche!$R$14,'4000'!E29,\"\")))))))))))","v":""}]
[null,null,null,null,null,null,null,null,null,null,null,null,null,null,null,null,null,null,null,null,null,null,"EKDIVER",{"$f":"IF($W$2=$R$4,'3000'!B30,IF(coche!$W$2=coche!$R$5,'3100'!B30,IF(coche!$W$2=coche!$R$6,'3200'!B30,IF(coche!$W$2=coche!$R$7,'3300'!B30,IF(coche!$W$2=coche!$R$8,'3400'!B30,IF(coche!$W$2=coche!$R$9,'3500'!B30,IF(coche!$W$2=coche!$R$10,'3600'!B30,IF(coche!$W$2=coche!$R$11,'3700'!B30,IF(coche!$W$2=coche!$R$12,'3800'!B30,IF(coche!$W$2=coche!$R$13,'3900'!B30,IF(coche!$W$2=coche!$R$14,'4000'!B30,\"\")))))))))))","v":""},{"$f":"IF($W$2=$R$4,'3000'!E30,IF(coche!$W$2=coche!$R$5,'3100'!E30,IF(coche!$W$2=coche!$R$6,'3200'!E30,IF(coche!$W$2=coche!$R$7,'3300'!E30,IF(coche!$W$2=coche!$R$8,'3400'!E30,IF(coche!$W$2=coche!$R$9,'3500'!E30,IF(coche!$W$2=coche!$R$10,'3600'!E30,IF(coche!$W$2=coche!$R$11,'3700'!E30,IF(coche!$W$2=coche!$R$12,'3800'!E30,IF(coche!$W$2=coche!$R$13,'3900'!E30,IF(coche!$W$2=coche!$R$14,'4000'!E30,\"\")))))))))))","v":""}]
[null,null,null,null,null,null,null,null,null,null,null,null,null,null,null,null,null,null,null,null,null,null,"EKDIVER",{"$f":"IF($W$2=$R$4,'3000'!B31,IF(coche!$W$2=coche!$R$5,'3100'!B31,IF(coche!$W$2=coche!$R$6,'3200'!B31,IF(coche!$W$2=coche!$R$7,'3300'!B31,IF(coche!$W$2=coche!$R$8,'3400'!B31,IF(coche!$W$2=coche!$R$9,'3500'!B31,IF(coche!$W$2=coche!$R$10,'3600'!B31,IF(coche!$W$2=coche!$R$11,'3700'!B31,IF(coche!$W$2=coche!$R$12,'3800'!B31,IF(coche!$W$2=coche!$R$13,'3900'!B31,IF(coche!$W$2=coche!$R$14,'4000'!B31,\"\")))))))))))","v":""},{"$f":"IF($W$2=$R$4,'3000'!E31,IF(coche!$W$2=coche!$R$5,'3100'!E31,IF(coche!$W$2=coche!$R$6,'3200'!E31,IF(coche!$W$2=coche!$R$7,'3300'!E31,IF(coche!$W$2=coche!$R$8,'3400'!E31,IF(coche!$W$2=coche!$R$9,'3500'!E31,IF(coche!$W$2=coche!$R$10,'3600'!E31,IF(coche!$W$2=coche!$R$11,'3700'!E31,IF(coche!$W$2=coche!$R$12,'3800'!E31,IF(coche!$W$2=coche!$R$13,'3900'!E31,IF(coche!$W$2=coche!$R$14,'4000'!E31,\"\")))))))))))","v":""}]
[null,null,null,null,null,null,null,null,null,null,null,null,null,null,null,null,null,null,null,null,null,null,"EKDIVER",{"$f":"IF($W$2=$R$4,'3000'!B32,IF(coche!$W$2=coche!$R$5,'3100'!B32,IF(coche!$W$2=coche!$R$6,'3200'!B32,IF(coche!$W$2=coche!$R$7,'3300'!B32,IF(coche!$W$2=coche!$R$8,'3400'!B32,IF(coche!$W$2=coche!$R$9,'3500'!B32,IF(coche!$W$2=coche!$R$10,'3600'!B32,IF(coche!$W$2=coche!$R$11,'3700'!B32,IF(coche!$W$2=coche!$R$12,'3800'!B32,IF(coche!$W$2=coche!$R$13,'3900'!B32,IF(coche!$W$2=coche!$R$14,'4000'!B32,\"\")))))))))))","v":""},{"$f":"IF($W$2=$R$4,'3000'!E32,IF(coche!$W$2=coche!$R$5,'3100'!E32,IF(coche!$W$2=coche!$R$6,'3200'!E32,IF(coche!$W$2=coche!$R$7,'3300'!E32,IF(coche!$W$2=coche!$R$8,'3400'!E32,IF(coche!$W$2=coche!$R$9,'3500'!E32,IF(coche!$W$2=coche!$R$10,'3600'!E32,IF(coche!$W$2=coche!$R$11,'3700'!E32,IF(coche!$W$2=coche!$R$12,'3800'!E32,IF(coche!$W$2=coche!$R$13,'3900'!E32,IF(coche!$W$2=coche!$R$14,'4000'!E32,\"\")))))))))))","v":""}]
[null,null,null,null,null,null,null,null,null,null,null,null,null,null,null,null,null,null,null,null,null,null,"EKDIVER",{"$f":"IF($W$2=$R$4,'3000'!B33,IF(coche!$W$2=coche!$R$5,'3100'!B33,IF(coche!$W$2=coche!$R$6,'3200'!B33,IF(coche!$W$2=coche!$R$7,'3300'!B33,IF(coche!$W$2=coche!$R$8,'3400'!B33,IF(coche!$W$2=coche!$R$9,'3500'!B33,IF(coche!$W$2=coche!$R$10,'3600'!B33,IF(coche!$W$2=coche!$R$11,'3700'!B33,IF(coche!$W$2=coche!$R$12,'3800'!B33,IF(coche!$W$2=coche!$R$13,'3900'!B33,IF(coche!$W$2=coche!$R$14,'4000'!B33,\"\")))))))))))","v":""},{"$f":"IF($W$2=$R$4,'3000'!E33,IF(coche!$W$2=coche!$R$5,'3100'!E33,IF(coche!$W$2=coche!$R$6,'3200'!E33,IF(coche!$W$2=coche!$R$7,'3300'!E33,IF(coche!$W$2=coche!$R$8,'3400'!E33,IF(coche!$W$2=coche!$R$9,'3500'!E33,IF(coche!$W$2=coche!$R$10,'3600'!E33,IF(coche!$W$2=coche!$R$11,'3700'!E33,IF(coche!$W$2=coche!$R$12,'3800'!E33,IF(coche!$W$2=coche!$R$13,'3900'!E33,IF(coche!$W$2=coche!$R$14,'4000'!E33,\"\")))))))))))","v":""}]
[null,null,null,null,null,null,null,null,null,null,null,null,null,null,null,null,null,null,null,null,null,null,"EKDIVER",{"$f":"IF($W$2=$R$4,'3000'!B34,IF(coche!$W$2=coche!$R$5,'3100'!B34,IF(coche!$W$2=coche!$R$6,'3200'!B34,IF(coche!$W$2=coche!$R$7,'3300'!B34,IF(coche!$W$2=coche!$R$8,'3400'!B34,IF(coche!$W$2=coche!$R$9,'3500'!B34,IF(coche!$W$2=coche!$R$10,'3600'!B34,IF(coche!$W$2=coche!$R$11,'3700'!B34,IF(coche!$W$2=coche!$R$12,'3800'!B34,IF(coche!$W$2=coche!$R$13,'3900'!B34,IF(coche!$W$2=coche!$R$14,'4000'!B34,\"\")))))))))))","v":""},{"$f":"IF($W$2=$R$4,'3000'!E34,IF(coche!$W$2=coche!$R$5,'3100'!E34,IF(coche!$W$2=coche!$R$6,'3200'!E34,IF(coche!$W$2=coche!$R$7,'3300'!E34,IF(coche!$W$2=coche!$R$8,'3400'!E34,IF(coche!$W$2=coche!$R$9,'3500'!E34,IF(coche!$W$2=coche!$R$10,'3600'!E34,IF(coche!$W$2=coche!$R$11,'3700'!E34,IF(coche!$W$2=coche!$R$12,'3800'!E34,IF(coche!$W$2=coche!$R$13,'3900'!E34,IF(coche!$W$2=coche!$R$14,'4000'!E34,\"\")))))))))))","v":""}]

{"sheet":"3000","index":2,"n_rows":34,"n_cols":5,"rows_kept":34,"cut":false,"hidden":true,"merged":[]}
[]
[]
["Référence","designation","qte SPL","qte APL","total"]
["IBB0001","Caisse long int 3m larg 1,95m ht 1,95m Volume 11,4m3",1,1,{"$f":"IF(coche!$C$2=TRUE,'3000'!D4,'3000'!C4)","v":1}]
[null,null,null,null,{"$f":"IF(coche!$C$2=TRUE,'3000'!D5,'3000'!C5)","v":0}]
["IBA0001","Longerons 160 x 80 long 3,20m",2,2,{"$f":"IF(coche!$C$2=TRUE,'3000'!D6,'3000'!C6)","v":2}]
["IBA0014","Traverse 40 x 40 long 2m",6,6,{"$f":"IF(coche!$C$2=TRUE,'3000'!D7,'3000'!C7)","v":6}]
["IBA0015","Encastrement renfort latéral entraxe 550mm",12,10,{"$f":"IF(coche!$C$2=TRUE,'3000'!D8,'3000'!C8)","v":12}]
["IBA0016","Encastrement renfort Face Avant 1400 x 400 + 8 entretoises M16 x 80",1,1,{"$f":"IF(coche!$C$2=TRUE,'3000'!D9,'3000'!C9)","v":1}]
["IBA0017","Encastrement renfort Pavillon 1400 x 700",1,1,{"$f":"IF(coche!$C$2=TRUE,'3000'!D10,'3000'!C10)","v":1}]
["IBA0018","Plafonnier LED en applique a détection",1,1,{"$f":"IF(coche!$C$2=TRUE,'3000'!D11,'3000'!C11)","v":1}]
["IBA0019","Feux de gabarit AV",2,2,{"$f":"IF(coche!$C$2=TRUE,'3000'!D12,'3000'!C12)","v":2}]
["IBA0020","Feux de gabarit AR",2,2,{"$f":"IF(coche!$C$2=TRUE,'3000'!D13,'3000'!C13)","v":2}]
["IBA0021","3eme feux stop",1,1,{"$f":"IF(coche!$C$2=TRUE,'3000'!D14,'3000'!C14)","v":1}]
["IBA0022","Prédisposition caméra de recule",1,1,{"$f":"IF(coche!$C$2=TRUE,'3000'!D15,'3000'!C15)","v":1}]
["IBA0023","Double porte battante AR",1,1,{"$f":"IF(coche!$C$2=TRUE,'3000'!D16,'3000'!C16)","v":1}]
["IBA0032","Plinthe alu Ht 250 mm","12m","12m",{"$f":"IF([1]coche!$C$2=TRUE,'[1]3000'!D17,'[1]3000'!C17)","v":"12m"}]
["IBA0033","Retenue de porte AR en T",2,2,{"$f":"IF([1]coche!$C$2=TRUE,'[1]3000'!D18,'[1]3000'!C18)","v":2}]
["IBA0036","Barre pare cycliste",2,2,{"$f":"IF([1]coche!$C$2=TRUE,'[1]3000'!D19,'[1]3000'!C19)","v":2}]
["IBA0072","Tampon Butoire",2,2,{"$f":"IF([1]coche!$C$2=TRUE,'[1]3000'!D20,'[1]3000'!C20)","v":2}]
[]
[null,null,null,null,{"$f":"IF(coche!$C$2=TRUE,'3000'!D22,'3000'!C22)","v":0}]
["IBA0071","Porte latérale",0,1,{"$f":"IF(coche!$C$2=TRUE,'3000'!D23,'3000'!C23)","v":0}]
["IBA0046","Garde boue Roues ","1 jeu","1 jeu",{"$f":"IF(coche!$C$2=TRUE,'3000'!D24,'3000'!C24)","v":"1 jeu"}]
["IBA0047","Rail arrimage","10m","9m",{"$f":"IF(coche!C2=TRUE,'3000'!D25,'3000'!C25)","v":"10m"}]
["IBA0048","Plinthe ht 250 ","10m","10m",{"$f":"IF(coche!$C$2=TRUE,'3000'!D26,'3000'!C26)","v":"10m"}]
["IBA0049","Etagère P500 1er niveau D","2,90m","1,90m",{"$f":"IF(coche!$C$2=TRUE,'3000'!D27,'3000'!C27)","v":"2,90m"}]
["IBA0050","Etagère P500 2eme niveau D","2,90m","1,90m",{"$f":"IF(coche!$C$2=TRUE,'3000'!D28,'3000'!C28)","v":"2,90m"}]
["IBA0051","Etagère P500 1er niveau G","2,90m","2,90m",{"$f":"IF(coche!$C$2=TRUE,'3000'!D29,'3000'!C29)","v":"2,90m"}]
["IBA0052","Etagère P500 2eme niveau G","2,90m","2,90m",{"$f":"IF(coche!$C$2=TRUE,'3000'!D30,'3000'!C30)","v":"2,90m"}]
["IBA0053","Cloison int Fixe",1,1,{"$f":"IF(coche!$C$2=TRUE,'3000'!D31,'3000'!C31)","v":1}]
["IBA0054","Cloison int mobile",1,1,{"$f":"IF(coche!$C$2=TRUE,'3000'!D32,'3000'!C32)","v":1}]
["IBA0055","Hayon",1,1,{"$f":"IF(coche!$C$2=TRUE,'3000'!D33,'3000'!C33)","v":1}]
["IBA0056","Prédisposition Hayon",1,1,{"$f":"IF(coche!$C$2=TRUE,'3000'!D34,'3000'!C34)","v":1}]

{"sheet":"3100","index":3,"n_rows":34,"n_cols":5,"rows_kept":34,"cut":false,"hidden":true,"merged":[]}
[]
[]
["Référence","designation","qte SPL","qte APL","total"]
["IBB0002","Caisse long int 3,10m larg 1,95m ht 1,95m Volume 11,7m3",1,1,{"$f":"IF(coche!$C$2=TRUE,'3100'!D4,'3100'!C4)","v":1}]
[null,null,null,null,{"$f":"IF(coche!$C$2=TRUE,'3100'!D5,'3100'!C5)","v":0}]
["IBA0002","Longerons 160 x 80 long 3,30m",2,2,{"$f":"IF(coche!$C$2=TRUE,'3100'!D6,'3100'!C6)","v":2}]
["IBA0014","Traverse 40 x 40 long 2m",6,6,{"$f":"IF(coche!$C$2=TRUE,'3100'!D7,'3100'!C7)","v":6}]
["IBA0015","Encastrement renfort latéral entraxe 550mm",12,10,{"$f":"IF(coche!$C$2=TRUE,'3100'!D8,'3100'!C8)","v":12}]
["IBA0016","Encastrement renfort Face Avant 1400 x 400 + 8 entretoises M16 x 80",1,1,{"$f":"IF(coche!$C$2=TRUE,'3100'!D9,'3100'!C9)","v":1}]
["IBA0017","Encastrement renfort Pavillon 1400 x 700",1,1,{"$f":"IF(coche!$C$2=TRUE,'3100'!D10,'3100'!C10)","v":1}]
["IBA0018","Plafonnier LED en applique a détection",1,1,{"$f":"IF(coche!$C$2=TRUE,'3100'!D11,'3100'!C11)","v":1}]
["IBA0019","Feux de gabarit AV",2,2,{"$f":"IF(coche!$C$2=TRUE,'3100'!D12,'3100'!C12)","v":2}]
["IBA0020","Feux de gabarit AR",2,2,{"$f":"IF(coche!$C$2=TRUE,'3100'!D13,'3100'!C13)","v":2}]
["IBA0021","3eme feux stop",1,1,{"$f":"IF(coche!$C$2=TRUE,'3100'!D14,'3100'!C14)","v":1}]
["IBA0022","Prédisposition caméra de recule",1,1,{"$f":"IF(coche!$C$2=TRUE,'3100'!D15,'3100'!C15)","v":1}]
["IBA0023","Double porte battante AR",1,1,{"$f":"IF(coche!$C$2=TRUE,'3100'!D16,'3100'!C16)","v":1}]
["IBA0032","Plinthe alu Ht 250 mm","12,2m","12,2m",{"$f":"IF(coche!$C$2=TRUE,'3100'!D17,'3100'!C17)","v":"12,2m"}]
[null,null,null,null,{"$f":"IF(coche!$C$2=TRUE,'3100'!D18,'3100'!C18)","v":0}]
["IBA0033","Retenue de porte AR en T",2,2,{"$f":"IF(coche!$C$2=TRUE,'3100'!D19,'3100'!C19)","v":2}]
["IBA0036","Barre pare cycliste",2,2,{"$f":"IF(coche!$C$2=TRUE,'3100'!D20,'3100'!C20)","v":2}]
["IBA0072","Tampon Butoire",2,2,{"$f":"IF(coche!$C$2=TRUE,'3100'!D21,'3100'!C21)","v":2}]
[]
["IBA0071","Porte latérale",0,1,{"$f":"IF(coche!$C$2=TRUE,'3100'!D23,'3100'!C23)","v":0}]
["IBA0046","Garde boue Roues ","1 jeu","1 jeu",{"$f":"IF(coche!$C$2=TRUE,'3100'!D24,'3100'!C24)","v":"1 jeu"}]
["IBA0047","Rail arrimage","10,2m","9,2m",{"$f":"IF(coche!$C$2=TRUE,'3100'!D25,'3100'!C25)","v":"10,2m"}]
["IBA0048","Plinthe ht 250 ","10,2m","9,2m",{"$f":"IF(coche!$C$2=TRUE,'3100'!D26,'3100'!C26)","v":"10,2m"}]
["IBA0049","Etagère P500 1er niveau D","3m","2m",{"$f":"IF(coche!$C$2=TRUE,'3100'!D27,'3100'!C27)","v":"3m"}]
["IBA0050","Etagère P500 2eme niveau D","3m","2m",{"$f":"IF(coche!$C$2=TRUE,'3100'!D28,'3100'!C28)","v":"3m"}]
["IBA0051","Etagère P500 1er niveau G","3m","3m",{"$f":"IF(coche!$C$2=TRUE,'3100'!D29,'3100'!C29)","v":"3m"}]
["IBA0052","Etagère P500 2eme niveau G","3m","3m",{"$f":"IF(coche!$C$2=TRUE,'3100'!D30,'3100'!C30)","v":"3m"}]
["IBA0053","Cloison int Fixe",1,1,{"$f":"IF(coche!$C$2=TRUE,'3100'!D31,'3100'!C31)","v":1}]
["IBA0054","Cloison int mobile",1,1,{"$f":"IF(coche!$C$2=TRUE,'3100'!D32,'3100'!C32)","v":1}]
["IBA0055","Hayon",1,1,{"$f":"IF(coche!$C$2=TRUE,'3100'!D33,'3100'!C33)","v":1}]
["IBA0056","Prédisposition Hayon",1,1,{"$f":"IF(coche!$C$2=TRUE,'3000'!D34,'3000'!C34)","v":1}]

{"sheet":"3200","index":4,"n_rows":34,"n_cols":5,"rows_kept":34,"cut":false,"hidden":true,"merged":[]}
[]
[]
["Référence","designation","qte SPL","qte APL","total"]
["IBB0003","Caisse long int 3,20m larg 1,95m ht 1,95m Volume 12,1m3",1,1,{"$f":"IF(coche!$C$2=TRUE,'3200'!D4,'3200'!C4)","v":1}]
[null,null,null,null,{"$f":"IF(coche!$C$2=TRUE,'3200'!D5,'3200'!C5)","v":0}]
["IBA0003","Longerons 160 x 80 long 3,40m",2,2,{"$f":"IF(coche!$C$2=TRUE,'3200'!D6,'3200'!C6)","v":2}]
["IBA0014","Traverse 40 x 40 long 2m",6,6,{"$f":"IF(coche!$C$2=TRUE,'3200'!D7,'3200'!C7)","v":6}]
["IBA0015","Encastrement renfort latéral entraxe 550mm",12,10,{"$f":"IF(coche!$C$2=TRUE,'3200'!D8,'3200'!C8)","v":12}]
["IBA0016","Encastrement renfort Face Avant 1400 x 400 + 8 entretoises M16 x 80",1,1,{"$f":"IF(coche!$C$2=TRUE,'3200'!D9,'3200'!C9)","v":1}]
["IBA0017","Encastrement renfort Pavillon 1400 x 700",1,1,{"$f":"IF(coche!$C$2=TRUE,'3200'!D10,'3200'!C10)","v":1}]
["IBA0018","Plafonnier LED en applique a détection",1,1,{"$f":"IF(coche!$C$2=TRUE,'3200'!D11,'3200'!C11)","v":1}]
["IBA0019","Feux de gabarit AV",2,2,{"$f":"IF(coche!$C$2=TRUE,'3200'!D12,'3200'!C12)","v":2}]
["IBA0020","Feux de gabarit AR",2,2,{"$f":"IF(coche!$C$2=TRUE,'3200'!D13,'3200'!C13)","v":2}]
["IBA0021","3eme feux stop",1,1,{"$f":"IF(coche!$C$2=TRUE,'3200'!D14,'3200'!C14)","v":1}]
["IBA0022","Prédisposition caméra de recule",1,1,{"$f":"IF(coche!$C$2=TRUE,'3200'!D15,'3200'!C15)","v":1}]
["IBA0023","Double porte battante AR",1,1,{"$f":"IF(coche!$C$2=TRUE,'3200'!D16,'3200'!C16)","v":1}]
["IBA0032","Plinthe alu Ht 250 mm","12,4m","12,4m",{"$f":"IF(coche!$C$2=TRUE,'3200'!D17,'3200'!C17)","v":"12,4m"}]
[null,null,null,null,{"$f":"IF(coche!$C$2=TRUE,'3200'!D18,'3200'!C18)","v":0}]
["IBA0033","Retenue de porte AR en T",2,2,{"$f":"IF(coche!$C$2=TRUE,'3200'!D19,'3200'!C19)","v":2}]
["IBA0036","Barre pare cycliste",2,2,{"$f":"IF(coche!$C$2=TRUE,'3200'!D20,'3200'!C20)","v":2}]
["IBA0072","Tampon Butoire",2,2,{"$f":"IF(coche!$C$2=TRUE,'3200'!D21,'3200'!C21)","v":2}]
[null,null,null,null,{"$f":"IF(coche!$C$2=TRUE,'3200'!D22,'3200'!C22)","v":0}]
["IBA0071","Porte latérale",0,1,{"$f":"IF(coche!$C$2=TRUE,'3200'!D23,'3200'!C23)","v":0}]
["IBA0046","Garde boue Roues ","1 jeu","1 jeu",{"$f":"IF(coche!$C$2=TRUE,'3200'!D24,'3200'!C24)","v":"1 jeu"}]
["IBA0047","Rail arrimage","10,4m","9,4m",{"$f":"IF(coche!$C$2=TRUE,'3200'!D25,'3200'!C25)","v":"10,4m"}]
["IBA0048","Plinthe ht 250 ","10,4m","9,4m",{"$f":"IF(coche!$C$2=TRUE,'3200'!D26,'3200'!C26)","v":"10,4m"}]
["IBA0049","Etagère P500 1er niveau D","3,10m","2,10m",{"$f":"IF(coche!$C$2=TRUE,'3200'!D27,'3200'!C27)","v":"3,10m"}]
["IBA0050","Etagère P500 2eme niveau D","3,10m","2,10m",{"$f":"IF(coche!$C$2=TRUE,'3200'!D28,'3200'!C28)","v":"3,10m"}]
["IBA0051","Etagère P500 1er niveau G","3,10m","3,10m",{"$f":"IF(coche!$C$2=TRUE,'3200'!D29,'3200'!C29)","v":"3,10m"}]
["IBA0052","Etagère P500 2eme niveau G","3,10m","3,10m",{"$f":"IF(coche!$C$2=TRUE,'3200'!D30,'3200'!C30)","v":"3,10m"}]
["IBA0053","Cloison int Fixe",1,1,{"$f":"IF(coche!$C$2=TRUE,'3200'!D31,'3200'!C31)","v":1}]
["IBA0054","Cloison int mobile",1,1,{"$f":"IF(coche!$C$2=TRUE,'3200'!D32,'3200'!C32)","v":1}]
["IBA0055","Hayon",1,1,{"$f":"IF(coche!$C$2=TRUE,'3200'!D33,'3200'!C33)","v":1}]
["IBA0056","Prédisposition Hayon",1,1,{"$f":"IF(coche!$C$2=TRUE,'3000'!D34,'3000'!C34)","v":1}]

{"sheet":"3300","index":5,"n_rows":34,"n_cols":5,"rows_kept":34,"cut":false,"hidden":true,"merged":[]}
[]
[]
["Référence","designation","qte SPL","qte APL","total"]
["IBB0004","Caisse long int 3,30m larg 1,95m ht 1,95m Volume 12,5m3",1,1,{"$f":"IF(coche!$C$2=TRUE,'3300'!D4,'3300'!C4)","v":1}]
[null,null,null,null,{"$f":"IF(coche!$C$2=TRUE,'3300'!D5,'3300'!C5)","v":0}]
["IBA0004","Longerons 160 x 80 long 3,50m",2,2,{"$f":"IF(coche!$C$2=TRUE,'3300'!D6,'3300'!C6)","v":2}]
["IBA0014","Traverse 40 x 40 long 2m",6,6,{"$f":"IF(coche!$C$2=TRUE,'3300'!D7,'3300'!C7)","v":6}]
["IBA0015","Encastrement renfort latéral entraxe 550mm",12,10,{"$f":"IF(coche!$C$2=TRUE,'3300'!D8,'3300'!C8)","v":12}]
["IBA0016","Encastrement renfort Face Avant 1400 x 400 + 8 entretoises M16 x 80",1,1,{"$f":"IF(coche!$C$2=TRUE,'3300'!D9,'3300'!C9)","v":1}]
["IBA0017","Encastrement renfort Pavillon 1400 x 700",1,1,{"$f":"IF(coche!$C$2=TRUE,'3300'!D10,'3300'!C10)","v":1}]
["IBA0018","Plafonnier LED en applique a détection",1,1,{"$f":"IF(coche!$C$2=TRUE,'3300'!D11,'3300'!C11)","v":1}]
["IBA0019","Feux de gabarit AV",2,2,{"$f":"IF(coche!$C$2=TRUE,'3300'!D12,'3300'!C12)","v":2}]
["IBA0020","Feux de gabarit AR",2,2,{"$f":"IF(coche!$C$2=TRUE,'3300'!D13,'3300'!C13)","v":2}]
["IBA0021","3eme feux stop",1,1,{"$f":"IF(coche!$C$2=TRUE,'3300'!D14,'3300'!C14)","v":1}]
["IBA0022","Prédisposition caméra de recule",1,1,{"$f":"IF(coche!$C$2=TRUE,'3300'!D15,'3300'!C15)","v":1}]
["IBA0023","Double porte battante AR",1,1,{"$f":"IF(coche!$C$2=TRUE,'3300'!D16,'3300'!C16)","v":1}]
["IBA0032","Plinthe alu Ht 250 mm","12,6m","12,6m",{"$f":"IF(coche!$C$2=TRUE,'3300'!D17,'3300'!C17)","v":"12,6m"}]
["IBA0042","Rallonge chassis long 140 mm",2,2,{"$f":"IF(coche!$C$2=TRUE,'3300'!D18,'3300'!C18)","v":2}]
["IBA0033","Retenue de porte AR en T",2,2,{"$f":"IF(coche!$C$2=TRUE,'3300'!D19,'3300'!C19)","v":2}]
["IBA0036","Barre pare cycliste",2,2,{"$f":"IF(coche!$C$2=TRUE,'3300'!D20,'3300'!C20)","v":2}]
["IBA0072","Tampon Butoire",2,2,{"$f":"IF(coche!$C$2=TRUE,'3300'!D21,'3300'!C21)","v":2}]
[]
["IBA0071","Porte latérale",0,1,{"$f":"IF(coche!$C$2=TRUE,'3300'!D23,'3300'!C23)","v":0}]
["IBA0046","Garde boue Roues ","1 jeu","1 jeu",{"$f":"IF(coche!$C$2=TRUE,'3300'!D24,'3300'!C24)","v":"1 jeu"}]
["IBA0047","Rail arrimage","10,6m","9,6m",{"$f":"IF(coche!$C$2=TRUE,'3300'!D25,'3300'!C25)","v":"10,6m"}]
["IBA0048","Plinthe ht 250 ","10,6m","9,6m",{"$f":"IF(coche!$C$2=TRUE,'3300'!D26,'3300'!C26)","v":"10,6m"}]
["IBA0049","Etagère P500 1er niveau D","3,20m","2,20m",{"$f":"IF(coche!$C$2=TRUE,'3300'!D27,'3300'!C27)","v":"3,20m"}]
["IBA0050","Etagère P500 2eme niveau D","3,20m","2,20m",{"$f":"IF(coche!$C$2=TRUE,'3300'!D28,'3300'!C28)","v":"3,20m"}]
["IBA0051","Etagère P500 1er niveau G","3,20m","3,20m",{"$f":"IF(coche!$C$2=TRUE,'3300'!D29,'3300'!C29)","v":"3,20m"}]
["IBA0052","Etagère P500 2eme niveau G","3,20m","3,20m",{"$f":"IF(coche!$C$2=TRUE,'3300'!D30,'3300'!C30)","v":"3,20m"}]
["IBA0053","Cloison int Fixe",1,1,{"$f":"IF(coche!$C$2=TRUE,'3300'!D31,'3300'!C31)","v":1}]
["IBA0054","Cloison int mobile",1,1,{"$f":"IF(coche!$C$2=TRUE,'3300'!D32,'3300'!C32)","v":1}]
["IBA0055","Hayon",1,1,{"$f":"IF(coche!$C$2=TRUE,'3300'!D33,'3300'!C33)","v":1}]
["IBA0056","Prédisposition Hayon",1,1,{"$f":"IF(coche!$C$2=TRUE,'3000'!D34,'3000'!C34)","v":1}]

{"sheet":"3400","index":6,"n_rows":34,"n_cols":5,"rows_kept":34,"cut":false,"hidden":true,"merged":[]}
[]
[]
["Référence","designation","qte SPL","qte APL","total"]
["IBB0005","Caisse long int 3,40m larg 1,95m ht 1,95m Volume 12,9m3",1,1,{"$f":"IF(coche!$C$2=TRUE,'3400'!D4,'3400'!C4)","v":1}]
[null,null,null,null,{"$f":"IF(coche!$C$2=TRUE,'3400'!D5,'3400'!C5)","v":0}]
["IBA0005","Longerons 160 x 80 long 3,60m",2,2,{"$f":"IF(coche!$C$2=TRUE,'3400'!D6,'3400'!C6)","v":2}]
["IBA0014","Traverse 40 x 40 long 2m",6,6,{"$f":"IF(coche!$C$2=TRUE,'3400'!D7,'3400'!C7)","v":6}]
["IBA0015","Encastrement renfort latéral entraxe 550mm",12,10,{"$f":"IF(coche!$C$2=TRUE,'3400'!D8,'3400'!C8)","v":12}]
["IBA0016","Encastrement renfort Face Avant 1400 x 400 + 8 entretoises M16 x 80",1,1,{"$f":"IF(coche!$C$2=TRUE,'3400'!D9,'3400'!C9)","v":1}]
["IBA0017","Encastrement renfort Pavillon 1400 x 700",1,1,{"$f":"IF(coche!$C$2=TRUE,'3400'!D10,'3400'!C10)","v":1}]
["IBA0018","Plafonnier LED en applique a détection",1,1,{"$f":"IF(coche!$C$2=TRUE,'3400'!D11,'3400'!C11)","v":1}]
["IBA0019","Feux de gabarit AV",2,2,{"$f":"IF(coche!$C$2=TRUE,'3400'!D12,'3400'!C12)","v":2}]
["IBA0020","Feux de gabarit AR",2,2,{"$f":"IF(coche!$C$2=TRUE,'3400'!D13,'3400'!C13)","v":2}]
["IBA0021","3eme feux stop",1,1,{"$f":"IF(coche!$C$2=TRUE,'3400'!D14,'3400'!C14)","v":1}]
["IBA0022","Prédisposition caméra de recule",1,1,{"$f":"IF(coche!$C$2=TRUE,'3400'!D15,'3400'!C15)","v":1}]
["IBA0023","Double porte battante AR",1,1,{"$f":"IF(coche!$C$2=TRUE,'3400'!D16,'3400'!C16)","v":1}]
["IBA0032","Plinthe alu Ht 250 mm","12,8m","12,8m",{"$f":"IF(coche!$C$2=TRUE,'3400'!D17,'3400'!C17)","v":"12,8m"}]
["IBA0042","Rallonge chassis long 240 mm",2,2,{"$f":"IF(coche!$C$2=TRUE,'3400'!D18,'3400'!C18)","v":2}]
["IBA0033","Retenue de porte AR en T",2,2,{"$f":"IF(coche!$C$2=TRUE,'3400'!D19,'3400'!C19)","v":2}]
["IBA0036","Barre pare cycliste",2,2,{"$f":"IF(coche!$C$2=TRUE,'3400'!D20,'3400'!C20)","v":2}]
["IBA0072","Tampon Butoire",2,2,{"$f":"IF(coche!$C$2=TRUE,'3400'!D21,'3400'!C21)","v":2}]
[]
["IBA0071","Porte latérale",0,1,{"$f":"IF(coche!$C$2=TRUE,'3400'!D23,'3400'!C23)","v":0}]
["IBA0046","Garde boue Roues ","1 jeu","1 jeu",{"$f":"IF(coche!$C$2=TRUE,'3400'!D24,'3400'!C24)","v":"1 jeu"}]
["IBA0047","Rail arrimage","10,8m","9,8m",{"$f":"IF(coche!$C$2=TRUE,'3400'!D25,'3400'!C25)","v":"10,8m"}]
["IBA0048","Plinthe ht 250 ","10,8m","9,8m",{"$f":"IF(coche!$C$2=TRUE,'3400'!D26,'3400'!C26)","v":"10,8m"}]
["IBA0049","Etagère P500 1er niveau D","3,30m","2,30m",{"$f":"IF(coche!$C$2=TRUE,'3400'!D27,'3400'!C27)","v":"3,30m"}]
["IBA0050","Etagère P500 2eme niveau D","3,30m","2,30m",{"$f":"IF(coche!$C$2=TRUE,'3400'!D28,'3400'!C28)","v":"3,30m"}]
["IBA0051","Etagère P500 1er niveau G","3,30m","3,30m",{"$f":"IF(coche!$C$2=TRUE,'3400'!D29,'3400'!C29)","v":"3,30m"}]
["IBA0052","Etagère P500 2eme niveau G","3,30m","3,30m",{"$f":"IF(coche!$C$2=TRUE,'3400'!D30,'3400'!C30)","v":"3,30m"}]
["IBA0053","Cloison int Fixe",1,1,{"$f":"IF(coche!$C$2=TRUE,'3400'!D31,'3400'!C31)","v":1}]
["IBA0054","Cloison int mobile",1,1,{"$f":"IF(coche!$C$2=TRUE,'3400'!D32,'3400'!C32)","v":1}]
["IBA0055","Hayon",1,1,{"$f":"IF(coche!$C$2=TRUE,'3400'!D33,'3400'!C33)","v":1}]
["IBA0056","Prédisposition Hayon",1,1,{"$f":"IF(coche!$C$2=TRUE,'3000'!D34,'3000'!C34)","v":1}]

{"sheet":"3500","index":7,"n_rows":34,"n_cols":5,"rows_kept":34,"cut":false,"hidden":true,"merged":[]}
[]
[]
["Référence","designation","qte SPL","qte APL","total"]
["IBB0006","Caisse long int 3,50m larg 1,95m ht 1,95m Volume 13,3m3",1,1,{"$f":"IF(coche!$C$2=TRUE,'3500'!D4,'3500'!C4)","v":1}]
[null,null,null,null,{"$f":"IF(coche!$C$2=TRUE,'3500'!D5,'3500'!C5)","v":0}]
["IBA0006","Longerons 160 x 80 long 3,70m",2,2,{"$f":"IF(coche!$C$2=TRUE,'3500'!D6,'3500'!C6)","v":2}]
["IBA0014","Traverse 40 x 40 long 2m",7,7,{"$f":"IF(coche!$C$2=TRUE,'3500'!D7,'3500'!C7)","v":7}]
["IBA0015","Encastrement renfort latéral entraxe 550mm",14,12,{"$f":"IF(coche!$C$2=TRUE,'3500'!D8,'3500'!C8)","v":14}]
["IBA0016","Encastrement renfort Face Avant 1400 x 400 + 8 entretoises M16 x 80",1,1,{"$f":"IF(coche!$C$2=TRUE,'3500'!D9,'3500'!C9)","v":1}]
["IBA0017","Encastrement renfort Pavillon 1400 x 700",1,1,{"$f":"IF(coche!$C$2=TRUE,'3500'!D10,'3500'!C10)","v":1}]
["IBA0018","Plafonnier LED en applique a détection",1,1,{"$f":"IF(coche!$C$2=TRUE,'3500'!D11,'3500'!C11)","v":1}]
["IBA0019","Feux de gabarit AV",2,2,{"$f":"IF(coche!$C$2=TRUE,'3500'!D12,'3500'!C12)","v":2}]
["IBA0020","Feux de gabarit AR",2,2,{"$f":"IF(coche!$C$2=TRUE,'3500'!D13,'3500'!C13)","v":2}]
["IBA0021","3eme feux stop",1,1,{"$f":"IF(coche!$C$2=TRUE,'3500'!D14,'3500'!C14)","v":1}]
["IBA0022","Prédisposition caméra de recule",1,1,{"$f":"IF(coche!$C$2=TRUE,'3500'!D15,'3500'!C15)","v":1}]
["IBA0023","Double porte battante AR",1,1,{"$f":"IF(coche!$C$2=TRUE,'3500'!D16,'3500'!C16)","v":1}]
["IBA0032","Plinthe alu Ht 250 mm","13m","13m",{"$f":"IF(coche!$C$2=TRUE,'3500'!D17,'3500'!C17)","v":"13m"}]
["IBA0042","Rallonge chassis long 340 mm",2,2,{"$f":"IF(coche!$C$2=TRUE,'3500'!D18,'3500'!C18)","v":2}]
["IBA0033","Retenue de porte AR en T",2,2,{"$f":"IF(coche!$C$2=TRUE,'3500'!D19,'3500'!C19)","v":2}]
["IBA0036","Barre pare cycliste",2,2,{"$f":"IF(coche!$C$2=TRUE,'3500'!D20,'3500'!C20)","v":2}]
["IBA0072","Tampon Butoire",2,2,{"$f":"IF(coche!$C$2=TRUE,'3500'!D21,'3500'!C21)","v":2}]
[]
["IBA0071","Porte latérale",0,1,{"$f":"IF(coche!$C$2=TRUE,'3500'!D23,'3500'!C23)","v":0}]
["IBA0046","Garde boue Roues ","1 jeu","1 jeu",{"$f":"IF(coche!$C$2=TRUE,'3500'!D24,'3500'!C24)","v":"1 jeu"}]
["IBA0047","Rail arrimage","11m","10m",{"$f":"IF(coche!$C$2=TRUE,'3500'!D25,'3500'!C25)","v":"11m"}]
["IBA0048","Plinthe ht 250 ","11m","10m",{"$f":"IF(coche!$C$2=TRUE,'3500'!D26,'3500'!C26)","v":"11m"}]
["IBA0049","Etagère P500 1er niveau D","3,40m","2,40m",{"$f":"IF(coche!$C$2=TRUE,'3500'!D27,'3500'!C27)","v":"3,40m"}]
["IBA0050","Etagère P500 2eme niveau D","3,40m","2,40m",{"$f":"IF(coche!$C$2=TRUE,'3500'!D28,'3500'!C28)","v":"3,40m"}]
["IBA0051","Etagère P500 1er niveau G","3,40m","3,40m",{"$f":"IF(coche!$C$2=TRUE,'3500'!D29,'3500'!C29)","v":"3,40m"}]
["IBA0052","Etagère P500 2eme niveau G","3,40m","3,40m",{"$f":"IF(coche!$C$2=TRUE,'3500'!D30,'3500'!C30)","v":"3,40m"}]
["IBA0053","Cloison int Fixe",1,1,{"$f":"IF(coche!$C$2=TRUE,'3500'!D31,'3500'!C31)","v":1}]
["IBA0054","Cloison int mobile",1,1,{"$f":"IF(coche!$C$2=TRUE,'3500'!D32,'3500'!C32)","v":1}]
["IBA0055","Hayon",1,1,{"$f":"IF(coche!$C$2=TRUE,'3500'!D33,'3500'!C33)","v":1}]
["IBA0056","Prédisposition Hayon",1,1,{"$f":"IF(coche!$C$2=TRUE,'3000'!D34,'3000'!C34)","v":1}]

{"sheet":"3600","index":8,"n_rows":34,"n_cols":5,"rows_kept":34,"cut":false,"hidden":true,"merged":[]}
[]
[]
["Référence","designation","qte SPL","qte APL","total"]
["IBB0007","Caisse long int 3,60m larg 1,95m ht 1,95m Volume 13,6m3",1,1,{"$f":"IF(coche!$C$2=TRUE,'3600'!D4,'3600'!C4)","v":1}]
[null,null,null,null,{"$f":"IF(coche!$C$2=TRUE,'3600'!D5,'3600'!C5)","v":0}]
["IBA0007","Longerons 160 x 80 long 3,80m",2,2,{"$f":"IF(coche!$C$2=TRUE,'3600'!D6,'3600'!C6)","v":2}]
["IBA0014","Traverse 40 x 40 long 2m",7,7,{"$f":"IF(coche!$C$2=TRUE,'3600'!D7,'3600'!C7)","v":7}]
["IBA0015","Encastrement renfort latéral entraxe 550mm",14,12,{"$f":"IF(coche!$C$2=TRUE,'3600'!D8,'3600'!C8)","v":14}]
["IBA0016","Encastrement renfort Face Avant 1400 x 400 + 8 entretoises M16 x 80",1,1,{"$f":"IF(coche!$C$2=TRUE,'3600'!D9,'3600'!C9)","v":1}]
["IBA0017","Encastrement renfort Pavillon 1400 x 700",1,1,{"$f":"IF(coche!$C$2=TRUE,'3600'!D10,'3600'!C10)","v":1}]
["IBA0018","Plafonnier LED en applique a détection",1,1,{"$f":"IF(coche!$C$2=TRUE,'3600'!D11,'3600'!C11)","v":1}]
["IBA0019","Feux de gabarit AV",2,2,{"$f":"IF(coche!$C$2=TRUE,'3600'!D12,'3600'!C12)","v":2}]
["IBA0020","Feux de gabarit AR",2,2,{"$f":"IF(coche!$C$2=TRUE,'3600'!D13,'3600'!C13)","v":2}]
["IBA0021","3eme feux stop",1,1,{"$f":"IF(coche!$C$2=TRUE,'3600'!D14,'3600'!C14)","v":1}]
["IBA0022","Prédisposition caméra de recule",1,1,{"$f":"IF(coche!$C$2=TRUE,'3600'!D15,'3600'!C15)","v":1}]
["IBA0023","Double porte battante AR",1,1,{"$f":"IF(coche!$C$2=TRUE,'3600'!D16,'3600'!C16)","v":1}]
["IBA0032","Plinthe alu Ht 250 mm","13,2m","13,2m",{"$f":"IF(coche!$C$2=TRUE,'3600'!D17,'3600'!C17)","v":"13,2m"}]
["IBA0033","Retenue de porte AR en T",2,2,{"$f":"IF(coche!$C$2=TRUE,'3600'!D18,'3600'!C18)","v":2}]
["IBA0036","Barre pare cycliste",2,2,{"$f":"IF(coche!$C$2=TRUE,'3600'!D19,'3600'!C19)","v":2}]
["IBA0072","Tampon Butoire",2,2,{"$f":"IF(coche!$C$2=TRUE,'3600'!D20,'3600'!C20)","v":2}]
[]
[]
["IBA0071","Porte latérale",0,1,{"$f":"IF(coche!$C$2=TRUE,'3600'!D23,'3600'!C23)","v":0}]
["IBA0046","Garde boue Roues ","1 jeu","1 jeu",{"$f":"IF(coche!$C$2=TRUE,'3600'!D24,'3600'!C24)","v":"1 jeu"}]
["IBA0047","Rail arrimage","11,2m","10,2m",{"$f":"IF(coche!$C$2=TRUE,'3600'!D25,'3600'!C25)","v":"11,2m"}]
["IBA0048","Plinthe ht 250 ","11,2m","10,2m",{"$f":"IF(coche!$C$2=TRUE,'3600'!D26,'3600'!C26)","v":"11,2m"}]
["IBA0049","Etagère P500 1er niveau D","3,50m","2,50m",{"$f":"IF(coche!$C$2=TRUE,'3600'!D27,'3600'!C27)","v":"3,50m"}]
["IBA0050","Etagère P500 2eme niveau D","3,50m","2,50m",{"$f":"IF(coche!$C$2=TRUE,'3600'!D28,'3600'!C28)","v":"3,50m"}]
["IBA0051","Etagère P500 1er niveau G","3,50m","3,50m",{"$f":"IF(coche!$C$2=TRUE,'3600'!D29,'3600'!C29)","v":"3,50m"}]
["IBA0052","Etagère P500 2eme niveau G","3,50m","3,50m",{"$f":"IF(coche!$C$2=TRUE,'3600'!D30,'3600'!C30)","v":"3,50m"}]
["IBA0053","Cloison int Fixe",1,1,{"$f":"IF(coche!$C$2=TRUE,'3600'!D31,'3600'!C31)","v":1}]
["IBA0054","Cloison int mobile",1,1,{"$f":"IF(coche!$C$2=TRUE,'3600'!D32,'3600'!C32)","v":1}]
["IBA0055","Hayon",1,1,{"$f":"IF(coche!$C$2=TRUE,'3600'!D33,'3600'!C33)","v":1}]
["IBA0056","Prédisposition Hayon",1,1,{"$f":"IF(coche!$C$2=TRUE,'3000'!D34,'3000'!C34)","v":1}]

{"sheet":"3700","index":9,"n_rows":34,"n_cols":5,"rows_kept":34,"cut":false,"hidden":true,"merged":[]}
[]
[]
["Référence","designation","qte SPL","qte APL","total"]
["IBB0008","Caisse long int 3,70m larg 1,95m ht 1,95m Volume 14m3",1,1,{"$f":"IF(coche!$C$2=TRUE,'3700'!D4,'3700'!C4)","v":1}]
[null,null,null,null,{"$f":"IF(coche!$C$2=TRUE,'3700'!D5,'3700'!C5)","v":0}]
["IBA0008","Longerons 160 x 80 long 3,90m",2,2,{"$f":"IF(coche!$C$2=TRUE,'3700'!D6,'3700'!C6)","v":2}]
["IBA0014","Traverse 40 x 40 long 2m",7,7,{"$f":"IF(coche!$C$2=TRUE,'3700'!D7,'3700'!C7)","v":7}]
["IBA0015","Encastrement renfort latéral entraxe 550mm",14,12,{"$f":"IF(coche!$C$2=TRUE,'3700'!D8,'3700'!C8)","v":14}]
["IBA0016","Encastrement renfort Face Avant 1400 x 400 + 8 entretoises M16 x 80",1,1,{"$f":"IF(coche!$C$2=TRUE,'3700'!D9,'3700'!C9)","v":1}]
["IBA0017","Encastrement renfort Pavillon 1400 x 700",1,1,{"$f":"IF(coche!$C$2=TRUE,'3700'!D10,'3700'!C10)","v":1}]
["IBA0018","Plafonnier LED en applique a détection",1,1,{"$f":"IF(coche!$C$2=TRUE,'3700'!D11,'3700'!C11)","v":1}]
["IBA0019","Feux de gabarit AV",2,2,{"$f":"IF(coche!$C$2=TRUE,'3700'!D12,'3700'!C12)","v":2}]
["IBA0020","Feux de gabarit AR",2,2,{"$f":"IF(coche!$C$2=TRUE,'3700'!D13,'3700'!C13)","v":2}]
["IBA0021","3eme feux stop",1,1,{"$f":"IF(coche!$C$2=TRUE,'3700'!D14,'3700'!C14)","v":1}]
["IBA0022","Prédisposition caméra de recule",1,1,{"$f":"IF(coche!$C$2=TRUE,'3700'!D15,'3700'!C15)","v":1}]
["IBA0023","Double porte battante AR",1,1,{"$f":"IF(coche!$C$2=TRUE,'3700'!D16,'3700'!C16)","v":1}]
["IBA0032","Plinthe alu Ht 250 mm","13,4m","13,4m",{"$f":"IF(coche!$C$2=TRUE,'3700'!D17,'3700'!C17)","v":"13,4m"}]
["IBA0042","Rallonge chassis long 200 mm",2,2,{"$f":"IF(coche!$C$2=TRUE,'3500'!D18,'3500'!C18)","v":2}]
["IBA0033","Retenue de porte AR en T",2,2,{"$f":"IF(coche!$C$2=TRUE,'3700'!D19,'3700'!C19)","v":2}]
["IBA0036","Barre pare cycliste",2,2,{"$f":"IF(coche!$C$2=TRUE,'3700'!D20,'3700'!C20)","v":2}]
["IBA0072","Tampon Butoire",2,2,{"$f":"IF(coche!$C$2=TRUE,'3700'!D21,'3700'!C21)","v":2}]
[]
["IBA0071","Porte latérale",0,1,{"$f":"IF(coche!$C$2=TRUE,'3700'!D23,'3700'!C23)","v":0}]
["IBA0046","Garde boue Roues ","1 jeu","1 jeu",{"$f":"IF(coche!$C$2=TRUE,'3700'!D24,'3700'!C24)","v":"1 jeu"}]
["IBA0047","Rail arrimage","11,4m","10,4m",{"$f":"IF(coche!$C$2=TRUE,'3700'!D25,'3700'!C25)","v":"11,4m"}]
["IBA0048","Plinthe ht 250 ","11,4m","10,4m",{"$f":"IF(coche!$C$2=TRUE,'3700'!D26,'3700'!C26)","v":"11,4m"}]
["IBA0049","Etagère P500 1er niveau D","3,60m","2,60m",{"$f":"IF(coche!$C$2=TRUE,'3700'!D27,'3700'!C27)","v":"3,60m"}]
["IBA0050","Etagère P500 2eme niveau D","3,60m","2,60m",{"$f":"IF(coche!$C$2=TRUE,'3700'!D28,'3700'!C28)","v":"3,60m"}]
["IBA0051","Etagère P500 1er niveau G","3,60m","3,60m",{"$f":"IF(coche!$C$2=TRUE,'3700'!D29,'3700'!C29)","v":"3,60m"}]
["IBA0052","Etagère P500 2eme niveau G","3,60m","3,60m",{"$f":"IF(coche!$C$2=TRUE,'3700'!D30,'3700'!C30)","v":"3,60m"}]
["IBA0053","Cloison int Fixe",1,1,{"$f":"IF(coche!$C$2=TRUE,'3700'!D31,'3700'!C31)","v":1}]
["IBA0054","Cloison int mobile",1,1,{"$f":"IF(coche!$C$2=TRUE,'3700'!D32,'3700'!C32)","v":1}]
["IBA0055","Hayon",1,1,{"$f":"IF(coche!$C$2=TRUE,'3700'!D33,'3700'!C33)","v":1}]
["IBA0056","Prédisposition Hayon",1,1,{"$f":"IF(coche!$C$2=TRUE,'3000'!D34,'3000'!C34)","v":1}]

{"sheet":"3800","index":10,"n_rows":34,"n_cols":5,"rows_kept":34,"cut":false,"hidden":true,"merged":[]}
[]
[]
["Référence","designation","qte SPL","qte APL","total"]
["IBB0009","Caisse long int 3,80m larg 1,95m ht 1,95m Volume 14,4m3",1,1,{"$f":"IF(coche!$C$2=TRUE,'3800'!D4,'3800'!C4)","v":1}]
[null,null,null,null,{"$f":"IF(coche!$C$2=TRUE,'3800'!D5,'3800'!C5)","v":0}]
["IBA0009","Longerons 160 x 80 long 4m",2,2,{"$f":"IF(coche!$C$2=TRUE,'3800'!D6,'3800'!C6)","v":2}]
["IBA0014","Traverse 40 x 40 long 2m",7,7,{"$f":"IF(coche!$C$2=TRUE,'3800'!D7,'3800'!C7)","v":7}]
["IBA0015","Encastrement renfort latéral entraxe 550mm",14,12,{"$f":"IF(coche!$C$2=TRUE,'3800'!D8,'3800'!C8)","v":14}]
["IBA0016","Encastrement renfort Face Avant 1400 x 400 + 8 entretoises M16 x 80",1,1,{"$f":"IF(coche!$C$2=TRUE,'3800'!D9,'3800'!C9)","v":1}]
["IBA0017","Encastrement renfort Pavillon 1400 x 700",1,1,{"$f":"IF(coche!$C$2=TRUE,'3800'!D10,'3800'!C10)","v":1}]
["IBA0018","Plafonnier LED en applique a détection",1,1,{"$f":"IF(coche!$C$2=TRUE,'3800'!D11,'3800'!C11)","v":1}]
["IBA0019","Feux de gabarit AV",2,2,{"$f":"IF(coche!$C$2=TRUE,'3800'!D12,'3800'!C12)","v":2}]
["IBA0020","Feux de gabarit AR",2,2,{"$f":"IF(coche!$C$2=TRUE,'3800'!D13,'3800'!C13)","v":2}]
["IBA0021","3eme feux stop",1,1,{"$f":"IF(coche!$C$2=TRUE,'3800'!D14,'3800'!C14)","v":1}]
["IBA0022","Prédisposition caméra de recule",1,1,{"$f":"IF(coche!$C$2=TRUE,'3800'!D15,'3800'!C15)","v":1}]
["IBA0023","Double porte battante AR",1,1,{"$f":"IF(coche!$C$2=TRUE,'3800'!D16,'3800'!C16)","v":1}]
["IBA0032","Plinthe alu Ht 250 mm","13,6m","13,6m",{"$f":"IF(coche!$C$2=TRUE,'3800'!D17,'3800'!C17)","v":"13,6m"}]
["IBA0042","Rallonge chassis long 300 mm",2,2,{"$f":"IF(coche!$C$2=TRUE,'3500'!D18,'3500'!C18)","v":2}]
["IBA0033","Retenue de porte AR en T",2,2,{"$f":"IF(coche!$C$2=TRUE,'3700'!D19,'3700'!C19)","v":2}]
["IBA0036","Barre pare cycliste",2,2,{"$f":"IF(coche!$C$2=TRUE,'3700'!D20,'3700'!C20)","v":2}]
["IBA0072","Tampon Butoire",2,2,{"$f":"IF(coche!$C$2=TRUE,'3700'!D21,'3700'!C21)","v":2}]
[]
["IBA0071","Porte latérale",0,1,{"$f":"IF(coche!$C$2=TRUE,'3800'!D23,'3800'!C23)","v":0}]
["IBA0046","Garde boue Roues ","1 jeu","1 jeu",{"$f":"IF(coche!$C$2=TRUE,'3800'!D24,'3800'!C24)","v":"1 jeu"}]
["IBA0047","Rail arrimage","11,6m","10,6m",{"$f":"IF(coche!$C$2=TRUE,'3800'!D25,'3800'!C25)","v":"11,6m"}]
["IBA0048","Plinthe ht 250 ","11,6m","10,6m",{"$f":"IF(coche!$C$2=TRUE,'3800'!D26,'3800'!C26)","v":"11,6m"}]
["IBA0049","Etagère P500 1er niveau D","3,70m","2,70m",{"$f":"IF(coche!$C$2=TRUE,'3800'!D27,'3800'!C27)","v":"3,70m"}]
["IBA0050","Etagère P500 2eme niveau D","3,70m","2,70m",{"$f":"IF(coche!$C$2=TRUE,'3800'!D28,'3800'!C28)","v":"3,70m"}]
["IBA0051","Etagère P500 1er niveau G","3,70m","3,70m",{"$f":"IF(coche!$C$2=TRUE,'3800'!D29,'3800'!C29)","v":"3,70m"}]
["IBA0052","Etagère P500 2eme niveau G","3,70m","3,70m",{"$f":"IF(coche!$C$2=TRUE,'3800'!D30,'3800'!C30)","v":"3,70m"}]
["IBA0053","Cloison int Fixe",1,1,{"$f":"IF(coche!$C$2=TRUE,'3800'!D31,'3800'!C31)","v":1}]
["IBA0054","Cloison int mobile",1,1,{"$f":"IF(coche!$C$2=TRUE,'3800'!D32,'3800'!C32)","v":1}]
["IBA0055","Hayon",1,1,{"$f":"IF(coche!$C$2=TRUE,'3800'!D33,'3800'!C33)","v":1}]
["IBA0056","Prédisposition Hayon",1,1,{"$f":"IF(coche!$C$2=TRUE,'3000'!D34,'3000'!C34)","v":1}]

{"sheet":"3900","index":11,"n_rows":34,"n_cols":5,"rows_kept":34,"cut":false,"hidden":true,"merged":[]}
[]
[]
["Référence","designation","qte SPL","qte APL","total"]
["IBB0010","Caisse long int 3,90m larg 1,95m ht 1,95m Volume 14,8m3",1,1,{"$f":"IF(coche!$C$2=TRUE,'3900'!D4,'3900'!C4)","v":1}]
[null,null,null,null,{"$f":"IF(coche!$C$2=TRUE,'3900'!D5,'3900'!C5)","v":0}]
["IBA0010","Longerons 160 x 80 long 4,10m",2,2,{"$f":"IF(coche!$C$2=TRUE,'3900'!D6,'3900'!C6)","v":2}]
["IBA0014","Traverse 40 x 40 long 2m",7,7,{"$f":"IF(coche!$C$2=TRUE,'3900'!D7,'3900'!C7)","v":7}]
["IBA0015","Encastrement renfort latéral entraxe 550mm",14,12,{"$f":"IF(coche!$C$2=TRUE,'3900'!D8,'3900'!C8)","v":14}]
["IBA0016","Encastrement renfort Face Avant 1400 x 400 + 8 entretoises M16 x 80",1,1,{"$f":"IF(coche!$C$2=TRUE,'3900'!D9,'3900'!C9)","v":1}]
["IBA0017","Encastrement renfort Pavillon 1400 x 700",1,1,{"$f":"IF(coche!$C$2=TRUE,'3900'!D10,'3900'!C10)","v":1}]
["IBA0018","Plafonnier LED en applique a détection",1,1,{"$f":"IF(coche!$C$2=TRUE,'3900'!D11,'3900'!C11)","v":1}]
["IBA0019","Feux de gabarit AV",2,2,{"$f":"IF(coche!$C$2=TRUE,'3900'!D12,'3900'!C12)","v":2}]
["IBA0020","Feux de gabarit AR",2,2,{"$f":"IF(coche!$C$2=TRUE,'3900'!D13,'3900'!C13)","v":2}]
["IBA0021","3eme feux stop",1,1,{"$f":"IF(coche!$C$2=TRUE,'3900'!D14,'3900'!C14)","v":1}]
["IBA0022","Prédisposition caméra de recule",1,1,{"$f":"IF(coche!$C$2=TRUE,'3900'!D15,'3900'!C15)","v":1}]
["IBA0023","Double porte battante AR",1,1,{"$f":"IF(coche!$C$2=TRUE,'3900'!D16,'3900'!C16)","v":1}]
["IBA0032","Plinthe alu Ht 250 mm","13,8m","13,8m",{"$f":"IF(coche!$C$2=TRUE,'3900'!D17,'3900'!C17)","v":"13,8m"}]
["IBA0043","Rallonge chassis long 400 mm",2,2,{"$f":"IF(coche!$C$2=TRUE,'3500'!D18,'3500'!C18)","v":2}]
["IBA0033","Retenue de porte AR en T",2,2,{"$f":"IF(coche!$C$2=TRUE,'3700'!D19,'3700'!C19)","v":2}]
["IBA0036","Barre pare cycliste",2,2,{"$f":"IF(coche!$C$2=TRUE,'3700'!D20,'3700'!C20)","v":2}]
["IBA0072","Tampon Butoire",2,2,{"$f":"IF(coche!$C$2=TRUE,'3700'!D21,'3700'!C21)","v":2}]
[]
["IBA0071","Porte latérale",0,1,{"$f":"IF(coche!$C$2=TRUE,'3900'!D23,'3900'!C23)","v":0}]
["IBA0046","Garde boue Roues ","1 jeu","1 jeu",{"$f":"IF(coche!$C$2=TRUE,'3900'!D24,'3900'!C24)","v":"1 jeu"}]
["IBA0047","Rail arrimage","11,8m","10,8m",{"$f":"IF(coche!$C$2=TRUE,'3900'!D25,'3900'!C25)","v":"11,8m"}]
["IBA0048","Plinthe ht 250 ","11,8m","10,8m",{"$f":"IF(coche!$C$2=TRUE,'3900'!D26,'3900'!C26)","v":"11,8m"}]
["IBA0049","Etagère P500 1er niveau D","3,80m","2,80m",{"$f":"IF(coche!$C$2=TRUE,'3900'!D27,'3900'!C27)","v":"3,80m"}]
["IBA0050","Etagère P500 2eme niveau D","3,80m","2,80m",{"$f":"IF(coche!$C$2=TRUE,'3900'!D28,'3900'!C28)","v":"3,80m"}]
["IBA0051","Etagère P500 1er niveau G","3,80m","3,80m",{"$f":"IF(coche!$C$2=TRUE,'3900'!D29,'3900'!C29)","v":"3,80m"}]
["IBA0052","Etagère P500 2eme niveau G","3,80m","3,80m",{"$f":"IF(coche!$C$2=TRUE,'3900'!D30,'3900'!C30)","v":"3,80m"}]
["IBA0053","Cloison int Fixe",1,1,{"$f":"IF(coche!$C$2=TRUE,'3900'!D31,'3900'!C31)","v":1}]
["IBA0054","Cloison int mobile",1,1,{"$f":"IF(coche!$C$2=TRUE,'3900'!D32,'3900'!C32)","v":1}]
["IBA0055","Hayon",1,1,{"$f":"IF(coche!$C$2=TRUE,'3900'!D33,'3900'!C33)","v":1}]
["IBA0056","Prédisposition Hayon",1,1,{"$f":"IF(coche!$C$2=TRUE,'3000'!D34,'3000'!C34)","v":1}]

{"sheet":"4000","index":12,"n_rows":34,"n_cols":5,"rows_kept":34,"cut":false,"hidden":true,"merged":[]}
[]
[]
["Référence","designation","qte SPL","qte APL","total"]
["IBB0011","Caisse long int 4m larg 1,95m ht 1,95m Volume 15,2m3",1,1,{"$f":"IF(coche!$C$2=TRUE,'4000'!D4,'4000'!C4)","v":1}]
[null,null,null,null,{"$f":"IF(coche!$C$2=TRUE,'4000'!D5,'4000'!C5)","v":0}]
["IBA0010","Longerons 160 x 80 long 4,20m",2,2,{"$f":"IF(coche!$C$2=TRUE,'4000'!D6,'4000'!C6)","v":2}]
["IBA0014","Traverse 40 x 40 long 2m",8,8,{"$f":"IF(coche!$C$2=TRUE,'4000'!D7,'4000'!C7)","v":8}]
["IBA0015","Encastrement renfort latéral entraxe 550mm",16,14,{"$f":"IF(coche!$C$2=TRUE,'4000'!D8,'4000'!C8)","v":16}]
["IBA0016","Encastrement renfort Face Avant 1400 x 400 + 8 entretoises M16 x 80",1,1,{"$f":"IF(coche!$C$2=TRUE,'4000'!D9,'4000'!C9)","v":1}]
["IBA0017","Encastrement renfort Pavillon 1400 x 700",1,1,{"$f":"IF(coche!$C$2=TRUE,'4000'!D10,'4000'!C10)","v":1}]
["IBA0018","Plafonnier LED en applique a détection",1,1,{"$f":"IF(coche!$C$2=TRUE,'4000'!D11,'4000'!C11)","v":1}]
["IBA0019","Feux de gabarit AV",2,2,{"$f":"IF(coche!$C$2=TRUE,'4000'!D12,'4000'!C12)","v":2}]
["IBA0020","Feux de gabarit AR",2,2,{"$f":"IF(coche!$C$2=TRUE,'4000'!D13,'4000'!C13)","v":2}]
["IBA0021","3eme feux stop",1,1,{"$f":"IF(coche!$C$2=TRUE,'4000'!D14,'4000'!C14)","v":1}]
["IBA0022","Prédisposition caméra de recule",1,1,{"$f":"IF(coche!$C$2=TRUE,'4000'!D15,'4000'!C15)","v":1}]
["IBA0023","Double porte battante AR",1,1,{"$f":"IF(coche!$C$2=TRUE,'4000'!D16,'4000'!C16)","v":1}]
["IBA0032","Plinthe alu Ht 250 mm","14m","14m",{"$f":"IF(coche!$C$2=TRUE,'4000'!D17,'4000'!C17)","v":"14m"}]
["IBA0043","Rallonge chassis long 500 mm",2,2,{"$f":"IF(coche!$C$2=TRUE,'4000'!D18,'4000'!C18)","v":2}]
["IBA0033","Retenue de porte AR en T",2,2,{"$f":"IF(coche!$C$2=TRUE,'4000'!D19,'4000'!C19)","v":2}]
["IBA0036","Barre pare cycliste",2,2,{"$f":"IF(coche!$C$2=TRUE,'4000'!D20,'4000'!C20)","v":2}]
["IBA0072","Tampon Butoire",2,2,{"$f":"IF(coche!$C$2=TRUE,'4000'!D21,'4000'!C21)","v":2}]
[]
["IBA0071","Porte latérale",0,1,{"$f":"IF(coche!$C$2=TRUE,'4000'!D23,'4000'!C23)","v":0}]
["IBA0046","Garde boue Roues ","1 jeu","1 jeu",{"$f":"IF(coche!$C$2=TRUE,'4000'!D24,'4000'!C24)","v":"1 jeu"}]
["IBA0047","Rail arrimage","12m","11m",{"$f":"IF(coche!$C$2=TRUE,'4000'!D25,'4000'!C25)","v":"12m"}]
["IBA0048","Plinthe ht 250 ","12m","11m",{"$f":"IF(coche!$C$2=TRUE,'4000'!D26,'4000'!C26)","v":"12m"}]
["IBA0049","Etagère P500 1er niveau D","3,90m","2,90m",{"$f":"IF(coche!$C$2=TRUE,'4000'!D27,'4000'!C27)","v":"3,90m"}]
["IBA0050","Etagère P500 2eme niveau D","3,90m","2,90m",{"$f":"IF(coche!$C$2=TRUE,'4000'!D28,'4000'!C28)","v":"3,90m"}]
["IBA0051","Etagère P500 1er niveau G","3,90m","3,90m",{"$f":"IF(coche!$C$2=TRUE,'4000'!D29,'4000'!C29)","v":"3,90m"}]
["IBA0052","Etagère P500 2eme niveau G","3,90m","3,90m",{"$f":"IF(coche!$C$2=TRUE,'4000'!D30,'4000'!C30)","v":"3,90m"}]
["IBA0053","Cloison int Fixe",1,1,{"$f":"IF(coche!$C$2=TRUE,'4000'!D31,'4000'!C31)","v":1}]
["IBA0054","Cloison int mobile",1,1,{"$f":"IF(coche!$C$2=TRUE,'4000'!D32,'4000'!C32)","v":1}]
["IBA0055","Hayon",1,1,{"$f":"IF(coche!$C$2=TRUE,'4000'!D33,'4000'!C33)","v":1}]
["IBA0056","Prédisposition Hayon",1,1,{"$f":"IF(coche!$C$2=TRUE,'3000'!D34,'3000'!C34)","v":1}]